BEGIN:VCALENDAR
VERSION:2.0
PRODID:-//EDM Life - ECPv6.15.20//NONSGML v1.0//EN
CALSCALE:GREGORIAN
METHOD:PUBLISH
X-WR-CALNAME:EDM Life
X-ORIGINAL-URL:https://edmlife.com
X-WR-CALDESC:Events for EDM Life
REFRESH-INTERVAL;VALUE=DURATION:PT1H
X-Robots-Tag:noindex
X-PUBLISHED-TTL:PT1H
BEGIN:VTIMEZONE
TZID:America/Los_Angeles
BEGIN:DAYLIGHT
TZOFFSETFROM:-0800
TZOFFSETTO:-0700
TZNAME:PDT
DTSTART:20170312T100000
END:DAYLIGHT
BEGIN:STANDARD
TZOFFSETFROM:-0700
TZOFFSETTO:-0800
TZNAME:PST
DTSTART:20171105T090000
END:STANDARD
BEGIN:DAYLIGHT
TZOFFSETFROM:-0800
TZOFFSETTO:-0700
TZNAME:PDT
DTSTART:20180311T100000
END:DAYLIGHT
BEGIN:STANDARD
TZOFFSETFROM:-0700
TZOFFSETTO:-0800
TZNAME:PST
DTSTART:20181104T090000
END:STANDARD
BEGIN:DAYLIGHT
TZOFFSETFROM:-0800
TZOFFSETTO:-0700
TZNAME:PDT
DTSTART:20190310T100000
END:DAYLIGHT
BEGIN:STANDARD
TZOFFSETFROM:-0700
TZOFFSETTO:-0800
TZNAME:PST
DTSTART:20191103T090000
END:STANDARD
END:VTIMEZONE
BEGIN:VEVENT
DTSTART;TZID=America/Los_Angeles:20180720T220000
DTEND;TZID=America/Los_Angeles:20180720T220000
DTSTAMP:20260419T083401
CREATED:20180717T043931Z
LAST-MODIFIED:20180717T043931Z
UID:12399-1532124000-1532124000@edmlife.com
SUMMARY:SAVI @ Temple SF
DESCRIPTION:Please submit for guest list before 6pm on the day of the event! \n\nFill out my online form.\n\n  Fill out my Wufoo form!
URL:https://edmlife.com/event/savi-temple-sf-2/
LOCATION:Temple SF\, 540 Howard Street\, 1st Floor\, San Francisco\, CA\, 94105\, United States
END:VEVENT
BEGIN:VEVENT
DTSTART;TZID=America/Los_Angeles:20180714T220000
DTEND;TZID=America/Los_Angeles:20180714T220000
DTSTAMP:20260419T083401
CREATED:20180710T052209Z
LAST-MODIFIED:20180710T052209Z
UID:12347-1531605600-1531605600@edmlife.com
SUMMARY:DZEKO @ Temple SF
DESCRIPTION:Please submit for guest list before 6pm on the day of the event! \n\nFill out my online form.\n\n  Fill out my Wufoo form!
URL:https://edmlife.com/event/dzeko-temple-sf/
LOCATION:Temple SF\, 540 Howard Street\, 1st Floor\, San Francisco\, CA\, 94105\, United States
END:VEVENT
BEGIN:VEVENT
DTSTART;TZID=America/Los_Angeles:20180714T220000
DTEND;TZID=America/Los_Angeles:20180714T220000
DTSTAMP:20260419T083401
CREATED:20180710T041754Z
LAST-MODIFIED:20180712T045723Z
UID:12335-1531605600-1531605600@edmlife.com
SUMMARY:London On Da Track & Jackal @ Academy
DESCRIPTION:$5 OFF with Promo Code: 2018 for the first 100 redemptions\, or ladies & guys we got you covered before 11pm! Please submit for guest list before 6pm on the day of the event!\n\nFill out my online form.\n\n  Fill out my Wufoo form!
URL:https://edmlife.com/event/london-on-da-track-jackal-academy/
LOCATION:Academy\, 6021 Hollywood Blvd\, Los Angeles\, CA\, 90028\, United States
END:VEVENT
BEGIN:VEVENT
DTSTART;TZID=America/Los_Angeles:20180714T220000
DTEND;TZID=America/Los_Angeles:20180714T220000
DTSTAMP:20260419T083401
CREATED:20180607T041831Z
LAST-MODIFIED:20180712T053351Z
UID:12138-1531605600-1531605600@edmlife.com
SUMMARY:Wolfgang Gartner @ Exchange LA
DESCRIPTION:$5 OFF with Promo Code: ELECTRO for the first 100 redemptions\, or Ladies we got you covered before 11pm + guys inquire for details! Please submit for guest list before 6pm on the day of the event!\n\nFill out my online form.\n\n  Fill out my Wufoo form!
URL:https://edmlife.com/event/wolfgang-gartner-exchange-la/
LOCATION:Exchange LA\, 618 S Spring St\, Los Angeles\, CA\, 90014\, United States
END:VEVENT
BEGIN:VEVENT
DTSTART;TZID=America/Los_Angeles:20180714T220000
DTEND;TZID=America/Los_Angeles:20180714T220000
DTSTAMP:20260419T083401
CREATED:20180525T042547Z
LAST-MODIFIED:20180525T042547Z
UID:12021-1531605600-1531605600@edmlife.com
SUMMARY:Markus Schulz @ Avalon
DESCRIPTION:Unfortunately No Guest List for this event.
URL:https://edmlife.com/event/markus-schulz-avalon-3/
LOCATION:Avalon Hollywood\, 1735 Vine Street\, Hollywood\, CA\, 90028\, United States
END:VEVENT
BEGIN:VEVENT
DTSTART;TZID=America/Los_Angeles:20180713T220000
DTEND;TZID=America/Los_Angeles:20180713T220000
DTSTAMP:20260419T083401
CREATED:20180710T051121Z
LAST-MODIFIED:20180710T051121Z
UID:12344-1531519200-1531519200@edmlife.com
SUMMARY:RON REESER @ Temple SF
DESCRIPTION:Please submit for guest list before 6pm on the day of the event! \n\nFill out my online form.\n\n  Fill out my Wufoo form!
URL:https://edmlife.com/event/ron-reeser-temple-sf/
LOCATION:Temple SF\, 540 Howard Street\, 1st Floor\, San Francisco\, CA\, 94105\, United States
END:VEVENT
BEGIN:VEVENT
DTSTART;TZID=America/Los_Angeles:20180713T220000
DTEND;TZID=America/Los_Angeles:20180713T220000
DTSTAMP:20260419T083401
CREATED:20180710T045156Z
LAST-MODIFIED:20180711T045631Z
UID:12341-1531519200-1531519200@edmlife.com
SUMMARY:ATLiens | RIOT | Part Native @ Avalon
DESCRIPTION:10% OFF with Promo Code: EDMLIFE\, $15 before 10:30pm OR first come\, first serve in case we run out of allocated discount tickets. Must be checked in by allotted time to receive discount. Early arrival is strongly recommended! Please submit for guest list before 6pm on the day of the event!\n\nFill out my online form.\n\n  Fill out my Wufoo form!
URL:https://edmlife.com/event/atliens-riot-part-native-avalon/
LOCATION:Avalon Hollywood\, 1735 Vine Street\, Hollywood\, CA\, 90028\, United States
END:VEVENT
BEGIN:VEVENT
DTSTART;TZID=America/Los_Angeles:20180713T220000
DTEND;TZID=America/Los_Angeles:20180713T220000
DTSTAMP:20260419T083401
CREATED:20180710T043610Z
LAST-MODIFIED:20180712T051815Z
UID:12338-1531519200-1531519200@edmlife.com
SUMMARY:MitiS | Myrne | Pls&Ty | Convex @ Exchange LA
DESCRIPTION:Ladies we got you covered before 11pm + guys inquire for details! Please submit for guest list before 6pm on the day of the event!\n\nFill out my online form.\n\n  Fill out my Wufoo form!
URL:https://edmlife.com/event/mitis-myrne-plsty-convex-exchange-la/
LOCATION:Exchange LA\, 618 S Spring St\, Los Angeles\, CA\, 90014\, United States
END:VEVENT
BEGIN:VEVENT
DTSTART;TZID=America/Los_Angeles:20180713T220000
DTEND;TZID=America/Los_Angeles:20180713T220000
DTSTAMP:20260419T083401
CREATED:20180710T040434Z
LAST-MODIFIED:20180712T043116Z
UID:12332-1531519200-1531519200@edmlife.com
SUMMARY:Dzeko & CID @ Academy
DESCRIPTION:$5 OFF with Promo Code: 2018 for the first 100 redemptions\, or Ladies we got you covered before 11pm + guys inquire for details! Please submit for guest list before 6pm on the day of the event!\n\nFill out my online form.\n\n  Fill out my Wufoo form!
URL:https://edmlife.com/event/dzeko-cid-academy/
LOCATION:Academy\, 6021 Hollywood Blvd\, Los Angeles\, CA\, 90028\, United States
END:VEVENT
BEGIN:VEVENT
DTSTART;TZID=America/Los_Angeles:20180708T140000
DTEND;TZID=America/Los_Angeles:20180708T210000
DTSTAMP:20260419T083401
CREATED:20180508T042212Z
LAST-MODIFIED:20180706T064448Z
UID:11766-1531058400-1531083600@edmlife.com
SUMMARY:Dirtybird BBQ 2018 @ the LA Coliseum
DESCRIPTION:Unfortunately No Guest List for this event.
URL:https://edmlife.com/event/dirtybird-bbq-2018-the-la-coliseum/
LOCATION:LA Coliseum\, 3911 S Figueroa St\, Los Angeles\, CA\, 90037\, United States
END:VEVENT
BEGIN:VEVENT
DTSTART;TZID=America/Los_Angeles:20180707T220000
DTEND;TZID=America/Los_Angeles:20180707T220000
DTSTAMP:20260419T083401
CREATED:20180703T070237Z
LAST-MODIFIED:20180703T070237Z
UID:12315-1531000800-1531000800@edmlife.com
SUMMARY:DJ TRIPLE XL @ Temple SF
DESCRIPTION:Please submit for guest list before 6pm on the day of the event! \n\nFill out my online form.\n\n  Fill out my Wufoo form!
URL:https://edmlife.com/event/dj-triple-xl-temple-sf-2/
LOCATION:Temple SF\, 540 Howard Street\, 1st Floor\, San Francisco\, CA\, 94105\, United States
END:VEVENT
BEGIN:VEVENT
DTSTART;TZID=America/Los_Angeles:20180707T220000
DTEND;TZID=America/Los_Angeles:20180707T220000
DTSTAMP:20260419T083401
CREATED:20180703T064034Z
LAST-MODIFIED:20180706T081735Z
UID:12309-1531000800-1531000800@edmlife.com
SUMMARY:Standerwick | Sean Tyas | Transcendent | Kumashi | Origin @ Avalon
DESCRIPTION:10% OFF with Promo Code: EDMLIFE\, $10 before 11pm OR first come\, first serve in case we run out of allocated discount tickets. Must be checked in by allotted time to receive discount. Early arrival is strongly recommended! \n\nFill out my online form.\n\n  Fill out my Wufoo form! \n07 – Standerwick (Live) and Sean Tyas (Live) \n  \nTrance is back at Avalon with two huge live sets from Standerwick and Sean Tyas. Together these two represent a very interesting and very promising niche of trance music. \n  \nFirst of all\, both will be performing live sets as opposed to the standard DJ set. That means they will be crafting unique renditions of their own original productions that will never be heard anywhere else. Live sets are always special because they allow the artist to dig deep into their creative process while everyone on the dance floor bares witness. Second of all\, both Standerwick and Sean Tyas have been quietly dominating the Trance scene. \n  \nStanderwick may have only started producing music three years ago\, but he’s already gained the attention of Trance legends including Armin Van Buuren\, Gareth Emery\, and Markus Schulz. He’s been featured on A State of Trance numerous times\, done remixes for John O’ Callaghan and has played some of the biggest festivals in the world like EDC Vegas and Tomorrowland. \n  \nSean Tyas got started in Trance long before Standerwick all the way back in 2006. However\, his time spent outside of the EDM spotlight has allowed him to maintain his classic style of dark trance. Within the scene he is huge having collaborated with Tiesto\, Dash Berlin\, and Above & Beyond. Most recently he put out an EP on the eponymous Trance label known only as “VII”\, and next month he’ll have a fresh remix out on Joyride Music Digital. \n  \nThis is sure to be an excellent night of dancing to authentic Trance. Get your tickets now! \n 
URL:https://edmlife.com/event/standerwick-sean-tyas-transcendent-kumashi-origin-avalon/
LOCATION:Avalon Hollywood\, 1735 Vine Street\, Hollywood\, CA\, 90028\, United States
END:VEVENT
BEGIN:VEVENT
DTSTART;TZID=America/Los_Angeles:20180707T220000
DTEND;TZID=America/Los_Angeles:20180707T220000
DTSTAMP:20260419T083401
CREATED:20180703T060816Z
LAST-MODIFIED:20180706T055319Z
UID:12303-1531000800-1531000800@edmlife.com
SUMMARY:Cut Snake | LO' 99 | Redlight | Sage Armstrong @ Academy
DESCRIPTION:$5 OFF with Promo Code: 2018 for the first 100 redemptions\, or Ladies we got you covered before 11pm + guys inquire for details! Please submit for guest list before 6pm on the day of the event!\n\nFill out my online form.\n\n  Fill out my Wufoo form!
URL:https://edmlife.com/event/cut-snake-lo-99-redlight-sage-armstrong-academy/
LOCATION:Academy\, 6021 Hollywood Blvd\, Los Angeles\, CA\, 90028\, United States
END:VEVENT
BEGIN:VEVENT
DTSTART;TZID=America/Los_Angeles:20180707T220000
DTEND;TZID=America/Los_Angeles:20180707T220000
DTSTAMP:20260419T083401
CREATED:20180703T052731Z
LAST-MODIFIED:20180706T063746Z
UID:12294-1531000800-1531000800@edmlife.com
SUMMARY:Road to Wasteland ft. Lady Faith | DJ Stephanie @ Exchange LA
DESCRIPTION:Unfortunately No Guest List for this event.
URL:https://edmlife.com/event/road-to-wasteland-ft-lady-faith-dj-stephanie-exchange-la/
LOCATION:Exchange LA\, 618 S Spring St\, Los Angeles\, CA\, 90014\, United States
END:VEVENT
BEGIN:VEVENT
DTSTART;TZID=America/Los_Angeles:20180706T220000
DTEND;TZID=America/Los_Angeles:20180706T220000
DTSTAMP:20260419T083401
CREATED:20180703T065034Z
LAST-MODIFIED:20180703T065034Z
UID:12312-1530914400-1530914400@edmlife.com
SUMMARY:VICETONE @ Temple SF
DESCRIPTION:Please submit for guest list before 6pm on the day of the event! \n\nFill out my online form.\n\n  Fill out my Wufoo form!
URL:https://edmlife.com/event/vicetone-temple-sf-2/
LOCATION:Temple SF\, 540 Howard Street\, 1st Floor\, San Francisco\, CA\, 94105\, United States
END:VEVENT
BEGIN:VEVENT
DTSTART;TZID=America/Los_Angeles:20180706T220000
DTEND;TZID=America/Los_Angeles:20180706T220000
DTSTAMP:20260419T083401
CREATED:20180703T055404Z
LAST-MODIFIED:20180706T053938Z
UID:12300-1530914400-1530914400@edmlife.com
SUMMARY:4B & Friends: EWR to LAX @ Academy
DESCRIPTION:  \nUnfortunately No Guest List for this event.
URL:https://edmlife.com/event/4b-friends-ewr-to-lax-academy/
LOCATION:Academy\, 6021 Hollywood Blvd\, Los Angeles\, CA\, 90028\, United States
END:VEVENT
BEGIN:VEVENT
DTSTART;TZID=America/Los_Angeles:20180706T220000
DTEND;TZID=America/Los_Angeles:20180706T220000
DTSTAMP:20260419T083401
CREATED:20180703T051746Z
LAST-MODIFIED:20180706T062542Z
UID:12291-1530914400-1530914400@edmlife.com
SUMMARY:Mercer | Dillon Nathaniel | NuKid | Jace Mek @ Exchange LA
DESCRIPTION:Ladies we got you covered before 11pm + guys inquire for details! Please submit for guest list before 6pm on the day of the event!\n\nFill out my online form.\n\n  Fill out my Wufoo form!
URL:https://edmlife.com/event/mercer-dillon-nathaniel-nukid-jace-mek-exchange-la/
LOCATION:Exchange LA\, 618 S Spring St\, Los Angeles\, CA\, 90014\, United States
END:VEVENT
BEGIN:VEVENT
DTSTART;TZID=America/Los_Angeles:20180706T213000
DTEND;TZID=America/Los_Angeles:20180706T213000
DTSTAMP:20260419T083401
CREATED:20180703T062721Z
LAST-MODIFIED:20180706T075620Z
UID:12306-1530912600-1530912600@edmlife.com
SUMMARY:LAXX | BAILO | Chainlynx | Matphilly | SJXN @ Avalon
DESCRIPTION:10% OFF with Promo Code: EDMLIFE\, $10 before 10:30pm OR first come\, first serve in case we run out of allocated discount tickets. Must be checked in by allotted time to receive discount. Early arrival is strongly recommended! Please submit for guest list before 6pm on the day of the event!\n\nFill out my online form.\n\n  Fill out my Wufoo form!
URL:https://edmlife.com/event/laxx-bailo-chainlynx-matphilly-sjxn-avalon/
LOCATION:Avalon Hollywood\, 1735 Vine Street\, Hollywood\, CA\, 90028\, United States
END:VEVENT
BEGIN:VEVENT
DTSTART;TZID=America/Los_Angeles:20180704T140000
DTEND;TZID=America/Los_Angeles:20180704T140000
DTSTAMP:20260419T083401
CREATED:20180703T054254Z
LAST-MODIFIED:20180703T054254Z
UID:12297-1530712800-1530712800@edmlife.com
SUMMARY:July 4th Cookout ft. Secret Lineup on the Patio @ Academy
DESCRIPTION:$5 OFF with Promo Code: 2018 for the first 100 redemptions! \n\nFill out my online form.\n\n  Fill out my Wufoo form!
URL:https://edmlife.com/event/july-4th-cookout-ft-secret-lineup-on-the-patio-academy/
LOCATION:Academy\, 6021 Hollywood Blvd\, Los Angeles\, CA\, 90028\, United States
END:VEVENT
BEGIN:VEVENT
DTSTART;TZID=America/Los_Angeles:20180703T220000
DTEND;TZID=America/Los_Angeles:20180703T220000
DTSTAMP:20260419T083401
CREATED:20180703T050657Z
LAST-MODIFIED:20180703T050657Z
UID:12288-1530655200-1530655200@edmlife.com
SUMMARY:LA Historic Park After Party ft. Whethan @ Exchange LA
DESCRIPTION:Please submit for guest list before 6pm on the day of the event! \n\nFill out my online form.\n\n  Fill out my Wufoo form!
URL:https://edmlife.com/event/la-historic-park-after-party-ft-whethan-exchange-la/
LOCATION:Exchange LA\, 618 S Spring St\, Los Angeles\, CA\, 90014\, United States
END:VEVENT
BEGIN:VEVENT
DTSTART;TZID=America/Los_Angeles:20180703T170000
DTEND;TZID=America/Los_Angeles:20180703T170000
DTSTAMP:20260419T083401
CREATED:20180514T203451Z
LAST-MODIFIED:20180514T203539Z
UID:11890-1530637200-1530637200@edmlife.com
SUMMARY:Insomniac Presents Zedd In The Park @ LA State Historic Park
DESCRIPTION:No Guest List for this event. \n\n\n\nInsomniac has announced Grammy Award-winning recording artist\, DJ & producer ZEDD will headline Zedd In The Park on Tuesday\, July 3 at the Los Angeles State Historic Park. Zedd In The Park marks both the highly anticipated return of dance music to the iconic Los Angeles venue as well as Zedd’s first solo headlining Los Angeles show since his True Colors Tour stop at the STAPLES Center in 2015. Supporting acts for Zedd In The Park include Whethan\, Medasin\, and Oliver Tree. \n“It’s such an honor to be able to play this iconic LA venue\,” says Zedd\, “I can’t wait to share this moment with my fans.” \nSince being remodeled in 2013\, this will be the first dance music-based show at Lost Angeles State Historic Park\, marking a shift in the type of music events held in Los Angeles as new and unique areas continue to be transformed into concert venues. While reintroducing a younger demographic to the metropolitan area\, this open-air venue offers a unique experience with modern amenities\, beautiful skyline views\, and ample green spaces for residents of the immediate community\, as well as the greater city of Los Angeles. \nGuests can expect to dance the night away in this beautiful 32-acre park while enjoying epic views of Downtown Los Angeles and exploring the various pathways weaving across the Los Angeles State Historic Park. The pinnacle of history and culture of Los Angeles\, the venue allows guests to indulge in amazing music and offers a taste of the diverse lifestyles of Los Angeles. In addition\, the Los Angeles State Historic Park is only one mile away from Los Angles Union station allowing for easy access and travel to and from the venue. \nZedd made his debut with “Clarity” after signing with Interscope in 2012 and has been breaking down barriers surrounding music genres ever since. His latest single\, “The Middle” with Maren Morris and Grey\, was declared “catchy as hell” by MTV and Rolling Stone called it “an infectious earworm.” The track has amassed over 500 million streams\, spent 5 consecutive weeks at #1 at Top 40 Radio in the U.S and two consecutive weeks at #1 at Hot AC Radio. “The Middle” is his follow up to his 2017 hit singles “Get Low” with Liam Payne and “Stay” with Alessia Cara. “Stay” earned Zedd his first #1 at Top 40 Radio and his second GRAMMY nomination. In 2015\, Zedd released ‘True Colors\,’ which debuted at No. 4 on the Billboard Top 200 Albums chart. Throughout his career\, Zedd has worked with a diverse range of artists to create hits\, including Hayley Williams on platinum hit “Stay The Night\,” which racked up more than 400 million streams\, and Selena Gomez on platinum track “I Want You To Know\,” which spent four weeks at No. 1 on Billboard’s Hot Dance/Electronic Songs chart.
URL:https://edmlife.com/event/insomniac-presents-zedd-in-the-park-la-state-historic-park/
LOCATION:Los Angeles Historic State Park\, 1245 N Spring St\, Los Angeles\, CA\, 90012\, United States
END:VEVENT
BEGIN:VEVENT
DTSTART;TZID=America/Los_Angeles:20180630T220000
DTEND;TZID=America/Los_Angeles:20180630T220000
DTSTAMP:20260419T083401
CREATED:20180626T080633Z
LAST-MODIFIED:20180626T080633Z
UID:12257-1530396000-1530396000@edmlife.com
SUMMARY:ZEN FREEMAN @ Temple SF
DESCRIPTION:Please submit for guest list before 6pm on the day of the event at guestlist! \n\nFill out my online form.\n\n  Fill out my Wufoo form!
URL:https://edmlife.com/event/zen-freeman-temple-sf/
LOCATION:Avalon Hollywood\, 1735 Vine Street\, Hollywood\, CA\, 90028\, United States
END:VEVENT
BEGIN:VEVENT
DTSTART;TZID=America/Los_Angeles:20180630T220000
DTEND;TZID=America/Los_Angeles:20180630T220000
DTSTAMP:20260419T083401
CREATED:20180626T075519Z
LAST-MODIFIED:20180628T010754Z
UID:12251-1530396000-1530396000@edmlife.com
SUMMARY:Ben Nicky | Karra | Casey Rasch | Jorza @ Avalon
DESCRIPTION:10% OFF with Promo Code: EDMLIFE\, $15 before 11pm OR first come\, first serve in case we run out of allocated discount tickets. Must be checked in by allotted time to receive discount. Early arrival is strongly recommended! Please submit for guest list before 6pm on the day of the event!\n\nFill out my online form.\n\n  Fill out my Wufoo form!
URL:https://edmlife.com/event/ben-nicky-karra-casey-rasch-jorza-avalon/
LOCATION:Avalon Hollywood\, 1735 Vine Street\, Hollywood\, CA\, 90028\, United States
END:VEVENT
BEGIN:VEVENT
DTSTART;TZID=America/Los_Angeles:20180630T220000
DTEND;TZID=America/Los_Angeles:20180630T220000
DTSTAMP:20260419T083401
CREATED:20180626T072717Z
LAST-MODIFIED:20180628T002903Z
UID:12245-1530396000-1530396000@edmlife.com
SUMMARY:Green Velvet [Extended Set] @ Exchange LA
DESCRIPTION:Unfortunately No Guest List for this event.
URL:https://edmlife.com/event/green-velvet-extended-set-exchange-la-this-saturday/
LOCATION:Exchange LA\, 618 S Spring St\, Los Angeles\, CA\, 90014\, United States
END:VEVENT
BEGIN:VEVENT
DTSTART;TZID=America/Los_Angeles:20180630T220000
DTEND;TZID=America/Los_Angeles:20180630T220000
DTSTAMP:20260419T083401
CREATED:20180508T044120Z
LAST-MODIFIED:20180628T001358Z
UID:11770-1530396000-1530396000@edmlife.com
SUMMARY:Audien @ Academy
DESCRIPTION:$5 OFF with Promo Code: SOMEIDEAS! Unfortunately No Guest List for this event.
URL:https://edmlife.com/event/audien-academy/
LOCATION:Academy\, 6021 Hollywood Blvd\, Los Angeles\, CA\, 90028\, United States
END:VEVENT
BEGIN:VEVENT
DTSTART;TZID=America/Los_Angeles:20180629T220000
DTEND;TZID=America/Los_Angeles:20180629T220000
DTSTAMP:20260419T083401
CREATED:20180626T074419Z
LAST-MODIFIED:20180628T004846Z
UID:12248-1530309600-1530309600@edmlife.com
SUMMARY:Party Thieves | Xan Griffin | Basko @ Avalon
DESCRIPTION:10% OFF with Promo Code: EDMLIFE\, $10 before 10:30pm OR first come\, first serve in case we run out of allocated discount tickets. Must be checked in by allotted time to receive discount. Early arrival is strongly recommended! Please submit for guest list before 6pm on the day of the event!\n\nFill out my online form.\n\n  Fill out my Wufoo form!
URL:https://edmlife.com/event/party-thieves-xan-griffin-basko-avalon/
LOCATION:Avalon Hollywood\, 1735 Vine Street\, Hollywood\, CA\, 90028\, United States
END:VEVENT
BEGIN:VEVENT
DTSTART;TZID=America/Los_Angeles:20180629T220000
DTEND;TZID=America/Los_Angeles:20180629T220000
DTSTAMP:20260419T083401
CREATED:20180626T071606Z
LAST-MODIFIED:20180626T071606Z
UID:12242-1530309600-1530309600@edmlife.com
SUMMARY:Malaa @ Exchange LA
DESCRIPTION:General Admission Sold Out. VIP Tickets Only.
URL:https://edmlife.com/event/malaa-exchange-la/
LOCATION:Exchange LA\, 618 S Spring St\, Los Angeles\, CA\, 90014\, United States
END:VEVENT
BEGIN:VEVENT
DTSTART;TZID=America/Los_Angeles:20180629T220000
DTEND;TZID=America/Los_Angeles:20180629T220000
DTSTAMP:20260419T083401
CREATED:20180626T070435Z
LAST-MODIFIED:20180627T235952Z
UID:12239-1530309600-1530309600@edmlife.com
SUMMARY:Sunnery James & Ryan Marciano @ Academy
DESCRIPTION:$5 OFF with Promo Code: 2018\, or Ladies we got you covered before 11pm + guys inquire for details! Please submit for guest list before 6pm on the day of the event!\n\nFill out my online form.\n\n  Fill out my Wufoo form!
URL:https://edmlife.com/event/sunnery-james-ryan-marciano-academy/
LOCATION:Academy\, 6021 Hollywood Blvd\, Los Angeles\, CA\, 90028\, United States
END:VEVENT
BEGIN:VEVENT
DTSTART;TZID=America/Los_Angeles:20180629T220000
DTEND;TZID=America/Los_Angeles:20180629T220000
DTSTAMP:20260419T083401
CREATED:20180531T225910Z
LAST-MODIFIED:20180531T225910Z
UID:12078-1530309600-1530309600@edmlife.com
SUMMARY:GREEN VELVET @ Temple SF
DESCRIPTION:Please submit for guest list before 6pm on the day of the event! \n\nFill out my online form.\n\n  Fill out my Wufoo form!
URL:https://edmlife.com/event/green-velvet-temple-sf/
LOCATION:Temple SF\, 540 Howard Street\, 1st Floor\, San Francisco\, CA\, 94105\, United States
END:VEVENT
BEGIN:VEVENT
DTSTART;TZID=America/Los_Angeles:20180623T220000
DTEND;TZID=America/Los_Angeles:20180623T220000
DTSTAMP:20260419T083401
CREATED:20180614T083453Z
LAST-MODIFIED:20180621T033449Z
UID:12196-1529791200-1529791200@edmlife.com
SUMMARY:Super8 & Tab | CaliNovas | Revkin @ Avalon
DESCRIPTION:10% OFF with Promo Code: EDMLIFE\, $15 before 11pm OR first come\, first serve in case we run out of allocated discount tickets. Must be checked in by allotted time to receive discount. Early arrival is strongly recommended! Please submit for guest list before 6pm on the day of the event!\n\nFill out my online form.\n\n  Fill out my Wufoo form!
URL:https://edmlife.com/event/super8-tab-calinovas-revkin-avalon/
LOCATION:Avalon Hollywood\, 1735 Vine Street\, Hollywood\, CA\, 90028\, United States
END:VEVENT
END:VCALENDAR