BEGIN:VCALENDAR
VERSION:2.0
PRODID:-//EDM Life - ECPv6.15.20//NONSGML v1.0//EN
CALSCALE:GREGORIAN
METHOD:PUBLISH
X-WR-CALNAME:EDM Life
X-ORIGINAL-URL:https://edmlife.com
X-WR-CALDESC:Events for EDM Life
REFRESH-INTERVAL;VALUE=DURATION:PT1H
X-Robots-Tag:noindex
X-PUBLISHED-TTL:PT1H
BEGIN:VTIMEZONE
TZID:America/Los_Angeles
BEGIN:DAYLIGHT
TZOFFSETFROM:-0800
TZOFFSETTO:-0700
TZNAME:PDT
DTSTART:20170312T100000
END:DAYLIGHT
BEGIN:STANDARD
TZOFFSETFROM:-0700
TZOFFSETTO:-0800
TZNAME:PST
DTSTART:20171105T090000
END:STANDARD
BEGIN:DAYLIGHT
TZOFFSETFROM:-0800
TZOFFSETTO:-0700
TZNAME:PDT
DTSTART:20180311T100000
END:DAYLIGHT
BEGIN:STANDARD
TZOFFSETFROM:-0700
TZOFFSETTO:-0800
TZNAME:PST
DTSTART:20181104T090000
END:STANDARD
BEGIN:DAYLIGHT
TZOFFSETFROM:-0800
TZOFFSETTO:-0700
TZNAME:PDT
DTSTART:20190310T100000
END:DAYLIGHT
BEGIN:STANDARD
TZOFFSETFROM:-0700
TZOFFSETTO:-0800
TZNAME:PST
DTSTART:20191103T090000
END:STANDARD
END:VTIMEZONE
BEGIN:VEVENT
DTSTART;TZID=America/Los_Angeles:20180703T170000
DTEND;TZID=America/Los_Angeles:20180703T170000
DTSTAMP:20260419T111756
CREATED:20180514T203451Z
LAST-MODIFIED:20180514T203539Z
UID:11890-1530637200-1530637200@edmlife.com
SUMMARY:Insomniac Presents Zedd In The Park @ LA State Historic Park
DESCRIPTION:No Guest List for this event. \n\n\n\nInsomniac has announced Grammy Award-winning recording artist\, DJ & producer ZEDD will headline Zedd In The Park on Tuesday\, July 3 at the Los Angeles State Historic Park. Zedd In The Park marks both the highly anticipated return of dance music to the iconic Los Angeles venue as well as Zedd’s first solo headlining Los Angeles show since his True Colors Tour stop at the STAPLES Center in 2015. Supporting acts for Zedd In The Park include Whethan\, Medasin\, and Oliver Tree. \n“It’s such an honor to be able to play this iconic LA venue\,” says Zedd\, “I can’t wait to share this moment with my fans.” \nSince being remodeled in 2013\, this will be the first dance music-based show at Lost Angeles State Historic Park\, marking a shift in the type of music events held in Los Angeles as new and unique areas continue to be transformed into concert venues. While reintroducing a younger demographic to the metropolitan area\, this open-air venue offers a unique experience with modern amenities\, beautiful skyline views\, and ample green spaces for residents of the immediate community\, as well as the greater city of Los Angeles. \nGuests can expect to dance the night away in this beautiful 32-acre park while enjoying epic views of Downtown Los Angeles and exploring the various pathways weaving across the Los Angeles State Historic Park. The pinnacle of history and culture of Los Angeles\, the venue allows guests to indulge in amazing music and offers a taste of the diverse lifestyles of Los Angeles. In addition\, the Los Angeles State Historic Park is only one mile away from Los Angles Union station allowing for easy access and travel to and from the venue. \nZedd made his debut with “Clarity” after signing with Interscope in 2012 and has been breaking down barriers surrounding music genres ever since. His latest single\, “The Middle” with Maren Morris and Grey\, was declared “catchy as hell” by MTV and Rolling Stone called it “an infectious earworm.” The track has amassed over 500 million streams\, spent 5 consecutive weeks at #1 at Top 40 Radio in the U.S and two consecutive weeks at #1 at Hot AC Radio. “The Middle” is his follow up to his 2017 hit singles “Get Low” with Liam Payne and “Stay” with Alessia Cara. “Stay” earned Zedd his first #1 at Top 40 Radio and his second GRAMMY nomination. In 2015\, Zedd released ‘True Colors\,’ which debuted at No. 4 on the Billboard Top 200 Albums chart. Throughout his career\, Zedd has worked with a diverse range of artists to create hits\, including Hayley Williams on platinum hit “Stay The Night\,” which racked up more than 400 million streams\, and Selena Gomez on platinum track “I Want You To Know\,” which spent four weeks at No. 1 on Billboard’s Hot Dance/Electronic Songs chart.
URL:https://edmlife.com/event/insomniac-presents-zedd-in-the-park-la-state-historic-park/
LOCATION:Los Angeles Historic State Park\, 1245 N Spring St\, Los Angeles\, CA\, 90012\, United States
END:VEVENT
BEGIN:VEVENT
DTSTART;TZID=America/Los_Angeles:20180630T220000
DTEND;TZID=America/Los_Angeles:20180630T220000
DTSTAMP:20260419T111756
CREATED:20180626T080633Z
LAST-MODIFIED:20180626T080633Z
UID:12257-1530396000-1530396000@edmlife.com
SUMMARY:ZEN FREEMAN @ Temple SF
DESCRIPTION:Please submit for guest list before 6pm on the day of the event at guestlist! \n\nFill out my online form.\n\n  Fill out my Wufoo form!
URL:https://edmlife.com/event/zen-freeman-temple-sf/
LOCATION:Avalon Hollywood\, 1735 Vine Street\, Hollywood\, CA\, 90028\, United States
END:VEVENT
BEGIN:VEVENT
DTSTART;TZID=America/Los_Angeles:20180630T220000
DTEND;TZID=America/Los_Angeles:20180630T220000
DTSTAMP:20260419T111756
CREATED:20180626T075519Z
LAST-MODIFIED:20180628T010754Z
UID:12251-1530396000-1530396000@edmlife.com
SUMMARY:Ben Nicky | Karra | Casey Rasch | Jorza @ Avalon
DESCRIPTION:10% OFF with Promo Code: EDMLIFE\, $15 before 11pm OR first come\, first serve in case we run out of allocated discount tickets. Must be checked in by allotted time to receive discount. Early arrival is strongly recommended! Please submit for guest list before 6pm on the day of the event!\n\nFill out my online form.\n\n  Fill out my Wufoo form!
URL:https://edmlife.com/event/ben-nicky-karra-casey-rasch-jorza-avalon/
LOCATION:Avalon Hollywood\, 1735 Vine Street\, Hollywood\, CA\, 90028\, United States
END:VEVENT
BEGIN:VEVENT
DTSTART;TZID=America/Los_Angeles:20180630T220000
DTEND;TZID=America/Los_Angeles:20180630T220000
DTSTAMP:20260419T111756
CREATED:20180626T072717Z
LAST-MODIFIED:20180628T002903Z
UID:12245-1530396000-1530396000@edmlife.com
SUMMARY:Green Velvet [Extended Set] @ Exchange LA
DESCRIPTION:Unfortunately No Guest List for this event.
URL:https://edmlife.com/event/green-velvet-extended-set-exchange-la-this-saturday/
LOCATION:Exchange LA\, 618 S Spring St\, Los Angeles\, CA\, 90014\, United States
END:VEVENT
BEGIN:VEVENT
DTSTART;TZID=America/Los_Angeles:20180630T220000
DTEND;TZID=America/Los_Angeles:20180630T220000
DTSTAMP:20260419T111756
CREATED:20180508T044120Z
LAST-MODIFIED:20180628T001358Z
UID:11770-1530396000-1530396000@edmlife.com
SUMMARY:Audien @ Academy
DESCRIPTION:$5 OFF with Promo Code: SOMEIDEAS! Unfortunately No Guest List for this event.
URL:https://edmlife.com/event/audien-academy/
LOCATION:Academy\, 6021 Hollywood Blvd\, Los Angeles\, CA\, 90028\, United States
END:VEVENT
BEGIN:VEVENT
DTSTART;TZID=America/Los_Angeles:20180629T220000
DTEND;TZID=America/Los_Angeles:20180629T220000
DTSTAMP:20260419T111756
CREATED:20180626T074419Z
LAST-MODIFIED:20180628T004846Z
UID:12248-1530309600-1530309600@edmlife.com
SUMMARY:Party Thieves | Xan Griffin | Basko @ Avalon
DESCRIPTION:10% OFF with Promo Code: EDMLIFE\, $10 before 10:30pm OR first come\, first serve in case we run out of allocated discount tickets. Must be checked in by allotted time to receive discount. Early arrival is strongly recommended! Please submit for guest list before 6pm on the day of the event!\n\nFill out my online form.\n\n  Fill out my Wufoo form!
URL:https://edmlife.com/event/party-thieves-xan-griffin-basko-avalon/
LOCATION:Avalon Hollywood\, 1735 Vine Street\, Hollywood\, CA\, 90028\, United States
END:VEVENT
BEGIN:VEVENT
DTSTART;TZID=America/Los_Angeles:20180629T220000
DTEND;TZID=America/Los_Angeles:20180629T220000
DTSTAMP:20260419T111756
CREATED:20180626T071606Z
LAST-MODIFIED:20180626T071606Z
UID:12242-1530309600-1530309600@edmlife.com
SUMMARY:Malaa @ Exchange LA
DESCRIPTION:General Admission Sold Out. VIP Tickets Only.
URL:https://edmlife.com/event/malaa-exchange-la/
LOCATION:Exchange LA\, 618 S Spring St\, Los Angeles\, CA\, 90014\, United States
END:VEVENT
BEGIN:VEVENT
DTSTART;TZID=America/Los_Angeles:20180629T220000
DTEND;TZID=America/Los_Angeles:20180629T220000
DTSTAMP:20260419T111756
CREATED:20180626T070435Z
LAST-MODIFIED:20180627T235952Z
UID:12239-1530309600-1530309600@edmlife.com
SUMMARY:Sunnery James & Ryan Marciano @ Academy
DESCRIPTION:$5 OFF with Promo Code: 2018\, or Ladies we got you covered before 11pm + guys inquire for details! Please submit for guest list before 6pm on the day of the event!\n\nFill out my online form.\n\n  Fill out my Wufoo form!
URL:https://edmlife.com/event/sunnery-james-ryan-marciano-academy/
LOCATION:Academy\, 6021 Hollywood Blvd\, Los Angeles\, CA\, 90028\, United States
END:VEVENT
BEGIN:VEVENT
DTSTART;TZID=America/Los_Angeles:20180629T220000
DTEND;TZID=America/Los_Angeles:20180629T220000
DTSTAMP:20260419T111756
CREATED:20180531T225910Z
LAST-MODIFIED:20180531T225910Z
UID:12078-1530309600-1530309600@edmlife.com
SUMMARY:GREEN VELVET @ Temple SF
DESCRIPTION:Please submit for guest list before 6pm on the day of the event! \n\nFill out my online form.\n\n  Fill out my Wufoo form!
URL:https://edmlife.com/event/green-velvet-temple-sf/
LOCATION:Temple SF\, 540 Howard Street\, 1st Floor\, San Francisco\, CA\, 94105\, United States
END:VEVENT
BEGIN:VEVENT
DTSTART;TZID=America/Los_Angeles:20180623T220000
DTEND;TZID=America/Los_Angeles:20180623T220000
DTSTAMP:20260419T111756
CREATED:20180614T083453Z
LAST-MODIFIED:20180621T033449Z
UID:12196-1529791200-1529791200@edmlife.com
SUMMARY:Super8 & Tab | CaliNovas | Revkin @ Avalon
DESCRIPTION:10% OFF with Promo Code: EDMLIFE\, $15 before 11pm OR first come\, first serve in case we run out of allocated discount tickets. Must be checked in by allotted time to receive discount. Early arrival is strongly recommended! Please submit for guest list before 6pm on the day of the event!\n\nFill out my online form.\n\n  Fill out my Wufoo form!
URL:https://edmlife.com/event/super8-tab-calinovas-revkin-avalon/
LOCATION:Avalon Hollywood\, 1735 Vine Street\, Hollywood\, CA\, 90028\, United States
END:VEVENT
BEGIN:VEVENT
DTSTART;TZID=America/Los_Angeles:20180623T220000
DTEND;TZID=America/Los_Angeles:20180623T220000
DTSTAMP:20260419T111756
CREATED:20180531T225228Z
LAST-MODIFIED:20180531T225228Z
UID:12075-1529791200-1529791200@edmlife.com
SUMMARY:BROOKE EVERS @ Temple SF
DESCRIPTION:Please submit for guest list before 6pm on the day of the event! \n\nFill out my online form.\n\n  Fill out my Wufoo form!
URL:https://edmlife.com/event/brooke-evers-temple-sf-2/
LOCATION:Temple SF\, 540 Howard Street\, 1st Floor\, San Francisco\, CA\, 94105\, United States
END:VEVENT
BEGIN:VEVENT
DTSTART;TZID=America/Los_Angeles:20180623T220000
DTEND;TZID=America/Los_Angeles:20180623T220000
DTSTAMP:20260419T111756
CREATED:20180531T075407Z
LAST-MODIFIED:20180621T031746Z
UID:12055-1529791200-1529791200@edmlife.com
SUMMARY:Chuckie [Open to Close] @ Academy
DESCRIPTION:$5 OFF with Promo Code: ALLNIGHT\, or ladies we got you covered before 11pm + guys inquire for details! Please submit for guest list before 6pm on the day of the event!\n\nFill out my online form.\n\n  Fill out my Wufoo form!
URL:https://edmlife.com/event/chuckie-open-to-close-academy/
LOCATION:Academy\, 6021 Hollywood Blvd\, Los Angeles\, CA\, 90028\, United States
END:VEVENT
BEGIN:VEVENT
DTSTART;TZID=America/Los_Angeles:20180623T220000
DTEND;TZID=America/Los_Angeles:20180623T220000
DTSTAMP:20260419T111756
CREATED:20180531T070326Z
LAST-MODIFIED:20180619T230341Z
UID:12046-1529791200-1529791200@edmlife.com
SUMMARY:A-Trak @ Exchange LA
DESCRIPTION:$5 OFF with Promo Code: FOOLSGOLD\, or ladies we got you covered before 11pm + guys inquire for details! Please submit for guest list before 6pm on the day of the event!\n\nFill out my online form.\n\n  Fill out my Wufoo form!
URL:https://edmlife.com/event/a-trak-exchange-la/
LOCATION:Exchange LA\, 618 S Spring St\, Los Angeles\, CA\, 90014\, United States
END:VEVENT
BEGIN:VEVENT
DTSTART;TZID=America/Los_Angeles:20180623T170000
DTEND;TZID=America/Los_Angeles:20180623T170000
DTSTAMP:20260419T111756
CREATED:20180425T062425Z
LAST-MODIFIED:20180425T062425Z
UID:11642-1529773200-1529773200@edmlife.com
SUMMARY:Future Primitive feat. Dixon & DJ Tennis in Chinatown
DESCRIPTION:No Guest List for this event.
URL:https://edmlife.com/event/future-primitive-feat-dixon-dj-tennis-in-chinatown/
LOCATION:Gin Ling Way (Chinatown)\, 451 Gin Ling Way\, Los Angeles\, CA\, 90012\, United States
END:VEVENT
BEGIN:VEVENT
DTSTART;TZID=America/Los_Angeles:20180622T220000
DTEND;TZID=America/Los_Angeles:20180622T220000
DTSTAMP:20260419T111756
CREATED:20180614T085648Z
LAST-MODIFIED:20180621T030911Z
UID:12202-1529704800-1529704800@edmlife.com
SUMMARY:Snakehips @ Academy
DESCRIPTION:$5 OFF with Promo Code: 2018! Unfortunately No Guest List for this event.
URL:https://edmlife.com/event/snakehips-academy/
LOCATION:Academy\, 6021 Hollywood Blvd\, Los Angeles\, CA\, 90028\, United States
END:VEVENT
BEGIN:VEVENT
DTSTART;TZID=America/Los_Angeles:20180622T220000
DTEND;TZID=America/Los_Angeles:20180622T220000
DTSTAMP:20260419T111756
CREATED:20180531T211822Z
LAST-MODIFIED:20180531T211822Z
UID:12069-1529704800-1529704800@edmlife.com
SUMMARY:DJ SHIFT @ Temple SF
DESCRIPTION:Please submit for guest list before 6pm on the day of the event! \n\nFill out my online form.\n\n  Fill out my Wufoo form!
URL:https://edmlife.com/event/dj-shift-temple-sf/
LOCATION:Temple SF\, 540 Howard Street\, 1st Floor\, San Francisco\, CA\, 94105\, United States
END:VEVENT
BEGIN:VEVENT
DTSTART;TZID=America/Los_Angeles:20180622T220000
DTEND;TZID=America/Los_Angeles:20180622T220000
DTSTAMP:20260419T111756
CREATED:20180504T025034Z
LAST-MODIFIED:20180619T213127Z
UID:11737-1529704800-1529704800@edmlife.com
SUMMARY:Two Friends @ Exchange
DESCRIPTION:$5 OFF with Promo Code: SUMMER\, or ladies we got you covered before 11pm + guys inquire for details! Please submit for guest list before 6pm on the day of the event!\n\nFill out my online form.\n\n  Fill out my Wufoo form!
URL:https://edmlife.com/event/two-friends-academy/
LOCATION:Exchange LA\, 618 S Spring St\, Los Angeles\, CA\, 90014\, United States
END:VEVENT
BEGIN:VEVENT
DTSTART;TZID=America/Los_Angeles:20180622T213000
DTEND;TZID=America/Los_Angeles:20180622T213000
DTSTAMP:20260419T111756
CREATED:20180614T082358Z
LAST-MODIFIED:20180621T032715Z
UID:12193-1529703000-1529703000@edmlife.com
SUMMARY:Wiwek | Cesqeaux | Rawtek | Losh @ Avalon
DESCRIPTION:10% OFF with Promo Code: EDMLIFE\, $15 before 10:30pm OR first come\, first serve in case we run out of allocated discount tickets. Must be checked in by allotted time to receive discount. Early arrival is strongly recommended! Please submit for guest list before 6pm on the day of the event!\n\nFill out my online form.\n\n  Fill out my Wufoo form!
URL:https://edmlife.com/event/wiwek-cesqeaux-rawtek-losh-avalon/
LOCATION:Avalon Hollywood\, 1735 Vine Street\, Hollywood\, CA\, 90028\, United States
END:VEVENT
BEGIN:VEVENT
DTSTART;TZID=America/Los_Angeles:20180616T220000
DTEND;TZID=America/Los_Angeles:20180616T220000
DTSTAMP:20260419T111756
CREATED:20180614T070939Z
LAST-MODIFIED:20180614T071042Z
UID:12189-1529186400-1529186400@edmlife.com
SUMMARY:LUCAS MED & FRIENDS FEAT. NU LUXX @ Temple SF
DESCRIPTION:Please submit for guest list before 6pm on the day of the event! \n\nFill out my online form.\n\n  Fill out my Wufoo form!
URL:https://edmlife.com/event/lucas-med-friends-feat-nu-luxx-temple-sf/
LOCATION:Temple SF\, 540 Howard Street\, 1st Floor\, San Francisco\, CA\, 94105\, United States
END:VEVENT
BEGIN:VEVENT
DTSTART;TZID=America/Los_Angeles:20180616T220000
DTEND;TZID=America/Los_Angeles:20180616T220000
DTSTAMP:20260419T111756
CREATED:20180612T063301Z
LAST-MODIFIED:20180614T062531Z
UID:12161-1529186400-1529186400@edmlife.com
SUMMARY:Kryder | Eddie Portillo | Fitta @ Avalon
DESCRIPTION:10% OFF with Promo Code: EDMLIFE\, $15 before 11pm OR first come\, first serve in case we run out of allocated discount tickets. Must be checked in by allotted time to receive discount. Early arrival is strongly recommended! Please submit for guest list before 6pm on the day of the event!\n\nFill out my online form.\n\n  Fill out my Wufoo form!
URL:https://edmlife.com/event/kryder-eddie-portillo-fitta-avalon/
LOCATION:Avalon Hollywood\, 1735 Vine Street\, Hollywood\, CA\, 90028\, United States
END:VEVENT
BEGIN:VEVENT
DTSTART;TZID=America/Los_Angeles:20180616T220000
DTEND;TZID=America/Los_Angeles:20180616T220000
DTSTAMP:20260419T111756
CREATED:20180611T230340Z
LAST-MODIFIED:20180614T051855Z
UID:12152-1529186400-1529186400@edmlife.com
SUMMARY:Drezo | No Mana | 13 @ Exchange LA
DESCRIPTION:Ladies we got you covered before 11pm (very limited guest list)! Please submit for guest list before 6pm on the day of the event!\n\nFill out my online form.\n\n  Fill out my Wufoo form!
URL:https://edmlife.com/event/drezo-no-mana-13-exchange-la/
LOCATION:Exchange LA\, 618 S Spring St\, Los Angeles\, CA\, 90014\, United States
END:VEVENT
BEGIN:VEVENT
DTSTART;TZID=America/Los_Angeles:20180616T220000
DTEND;TZID=America/Los_Angeles:20180616T220000
DTSTAMP:20260419T111756
CREATED:20180510T071502Z
LAST-MODIFIED:20180614T050355Z
UID:11846-1529186400-1529186400@edmlife.com
SUMMARY:Ace Ventura | Liquid Soul @ Academy
DESCRIPTION:$5 OFF with Promo Code: DREAMWITHME\, or ladies we got you covered before 11pm + guys inquire for details! Please submit for guest list before 6pm on the day of the event!\n\nFill out my online form.\n\n  Fill out my Wufoo form!
URL:https://edmlife.com/event/ace-ventura-liquid-soul-academy/
LOCATION:Academy\, 6021 Hollywood Blvd\, Los Angeles\, CA\, 90028\, United States
END:VEVENT
BEGIN:VEVENT
DTSTART;TZID=America/Los_Angeles:20180615T220000
DTEND;TZID=America/Los_Angeles:20180615T220000
DTSTAMP:20260419T111756
CREATED:20180611T231655Z
LAST-MODIFIED:20180614T043157Z
UID:12155-1529100000-1529100000@edmlife.com
SUMMARY:Bingo Players @ Academy
DESCRIPTION:$5 OFF with Promo Code: 2018\, or ladies we got you covered before 11pm (very limited guest list) + guys inquire for details! Please submit for guest list before 6pm on the day of the event!\n\nFill out my online form.\n\n  Fill out my Wufoo form!
URL:https://edmlife.com/event/bingo-players-academy/
LOCATION:Academy\, 6021 Hollywood Blvd\, Los Angeles\, CA\, 90028\, United States
END:VEVENT
BEGIN:VEVENT
DTSTART;TZID=America/Los_Angeles:20180615T220000
DTEND;TZID=America/Los_Angeles:20180615T220000
DTSTAMP:20260419T111756
CREATED:20180531T233228Z
LAST-MODIFIED:20180612T221223Z
UID:12084-1529100000-1529100000@edmlife.com
SUMMARY:Ben Gold @ Exchange LA
DESCRIPTION:FREE before 11 PM!!! Please submit for guest list before 6pm on the day of the event at guestlist@edmlife.com! Due to health issues\, we regret to inform you that Dash Berlin is rescheduling his upcoming show at Exchange LA this FRIDAY for a later date to be announced. All tickets will be refunded by your ticket provider. We will also be issuing all Dash Berlin ticket buyers a pair of complimentary tickets to see Ben Gold for an extended three hour set this FRIDAY\, June 15th as his replacement. Thank you for understanding #TranceFamily! \n\nFill out my online form.\n\n  Fill out my Wufoo form!
URL:https://edmlife.com/event/dash-berlin-exchange-la-2/
LOCATION:Exchange LA\, 618 S Spring St\, Los Angeles\, CA\, 90014\, United States
END:VEVENT
BEGIN:VEVENT
DTSTART;TZID=America/Los_Angeles:20180615T220000
DTEND;TZID=America/Los_Angeles:20180615T220000
DTSTAMP:20260419T111756
CREATED:20180531T210854Z
LAST-MODIFIED:20180531T210854Z
UID:12066-1529100000-1529100000@edmlife.com
SUMMARY:ALESSO @ Temple SF
DESCRIPTION:No Guest List for this event.
URL:https://edmlife.com/event/alesso-temple-sf/
LOCATION:Temple SF\, 540 Howard Street\, 1st Floor\, San Francisco\, CA\, 94105\, United States
END:VEVENT
BEGIN:VEVENT
DTSTART;TZID=America/Los_Angeles:20180615T213000
DTEND;TZID=America/Los_Angeles:20180615T213000
DTSTAMP:20260419T111756
CREATED:20180611T233213Z
LAST-MODIFIED:20180614T060245Z
UID:12158-1529098200-1529098200@edmlife.com
SUMMARY:Angelz | Sevenn | Jeremiah Red | Marvin Jest @ Avalon
DESCRIPTION:10% OFF with Promo Code: EDMLIFE\, or $15 before 10:30pm OR first come\, first serve in case we run out of allocated discount tickets. Must be checked in by allotted time to receive discount. Early arrival is strongly recommended! Please submit for guest list before 6pm on the day of the event! \n\nFill out my online form.\n\n  Fill out my Wufoo form!
URL:https://edmlife.com/event/angelz-sevenn-jeremiah-red-marvin-jest-avalon/
LOCATION:Avalon Hollywood\, 1735 Vine Street\, Hollywood\, CA\, 90028\, United States
END:VEVENT
BEGIN:VEVENT
DTSTART;TZID=America/Los_Angeles:20180609T220000
DTEND;TZID=America/Los_Angeles:20180609T220000
DTSTAMP:20260419T111756
CREATED:20180605T081544Z
LAST-MODIFIED:20180606T224016Z
UID:12110-1528581600-1528581600@edmlife.com
SUMMARY:Bobina | Omnia | Amanda Darling | Aressa @ Avalon
DESCRIPTION:10% OFF with Promo Code: EDMLIFE\, $15 before 11pm OR first come\, first serve in case we run out of allocated discount tickets. Please submit for guest list before 6pm on the day of the event! \n\nFill out my online form.\n\n  Fill out my Wufoo form!
URL:https://edmlife.com/event/bobina-omnia-amanda-darling-aressa-avalon/
LOCATION:Avalon Hollywood\, 1735 Vine Street\, Hollywood\, CA\, 90028\, United States
END:VEVENT
BEGIN:VEVENT
DTSTART;TZID=America/Los_Angeles:20180609T220000
DTEND;TZID=America/Los_Angeles:20180609T220000
DTSTAMP:20260419T111756
CREATED:20180531T232047Z
LAST-MODIFIED:20180606T215456Z
UID:12081-1528581600-1528581600@edmlife.com
SUMMARY:Terrible Johnny of Highly Suspect @ Exchange LA
DESCRIPTION:Ladies + guys we got you covered before 11pm! Please submit for guest list before 6pm on the day of the event!\n\nFill out my online form.\n\n  Fill out my Wufoo form!
URL:https://edmlife.com/event/terrible-johnny-of-highly-suspect-uffie-exchange-la/
LOCATION:Exchange LA\, 618 S Spring St\, Los Angeles\, CA\, 90014\, United States
END:VEVENT
BEGIN:VEVENT
DTSTART;TZID=America/Los_Angeles:20180609T220000
DTEND;TZID=America/Los_Angeles:20180609T220000
DTSTAMP:20260419T111756
CREATED:20180523T030103Z
LAST-MODIFIED:20180523T030103Z
UID:12005-1528581600-1528581600@edmlife.com
SUMMARY:BAAUER @ Temple SF
DESCRIPTION:Please submit for guest list before 6pm on the day of the event! \n\nFill out my online form.\n\n  Fill out my Wufoo form!
URL:https://edmlife.com/event/baauer-temple-sf/
LOCATION:Temple SF\, 540 Howard Street\, 1st Floor\, San Francisco\, CA\, 94105\, United States
END:VEVENT
BEGIN:VEVENT
DTSTART;TZID=America/Los_Angeles:20180609T220000
DTEND;TZID=America/Los_Angeles:20180609T220000
DTSTAMP:20260419T111756
CREATED:20180425T065411Z
LAST-MODIFIED:20180606T211742Z
UID:11649-1528581600-1528581600@edmlife.com
SUMMARY:Cosmic Gate @ Academy
DESCRIPTION:$5 OFF with Promo Code: WAKEYOURMIND\, or ladies we got you covered before 11pm (very limited guest list)! Please submit for guest list before 6pm on the day of the event! \n\nFill out my online form.\n\n  Fill out my Wufoo form!
URL:https://edmlife.com/event/cosmic-gate-academy/
LOCATION:Academy\, 6021 Hollywood Blvd\, Los Angeles\, CA\, 90028\, United States
END:VEVENT
END:VCALENDAR