BEGIN:VCALENDAR
VERSION:2.0
PRODID:-//EDM Life - ECPv6.15.20//NONSGML v1.0//EN
CALSCALE:GREGORIAN
METHOD:PUBLISH
X-WR-CALNAME:EDM Life
X-ORIGINAL-URL:https://edmlife.com
X-WR-CALDESC:Events for EDM Life
REFRESH-INTERVAL;VALUE=DURATION:PT1H
X-Robots-Tag:noindex
X-PUBLISHED-TTL:PT1H
BEGIN:VTIMEZONE
TZID:America/Los_Angeles
BEGIN:DAYLIGHT
TZOFFSETFROM:-0800
TZOFFSETTO:-0700
TZNAME:PDT
DTSTART:20170312T100000
END:DAYLIGHT
BEGIN:STANDARD
TZOFFSETFROM:-0700
TZOFFSETTO:-0800
TZNAME:PST
DTSTART:20171105T090000
END:STANDARD
BEGIN:DAYLIGHT
TZOFFSETFROM:-0800
TZOFFSETTO:-0700
TZNAME:PDT
DTSTART:20180311T100000
END:DAYLIGHT
BEGIN:STANDARD
TZOFFSETFROM:-0700
TZOFFSETTO:-0800
TZNAME:PST
DTSTART:20181104T090000
END:STANDARD
BEGIN:DAYLIGHT
TZOFFSETFROM:-0800
TZOFFSETTO:-0700
TZNAME:PDT
DTSTART:20190310T100000
END:DAYLIGHT
BEGIN:STANDARD
TZOFFSETFROM:-0700
TZOFFSETTO:-0800
TZNAME:PST
DTSTART:20191103T090000
END:STANDARD
END:VTIMEZONE
BEGIN:VEVENT
DTSTART;TZID=America/Los_Angeles:20180608T223000
DTEND;TZID=America/Los_Angeles:20180608T223000
DTSTAMP:20260419T150319
CREATED:20180525T050620Z
LAST-MODIFIED:20180606T222355Z
UID:12030-1528497000-1528497000@edmlife.com
SUMMARY:Jayceeoh | JayKode | Jeremiah Red @ Avalon
DESCRIPTION:10% OFF with Promo Code: EDMLIFE\, or $10 before 11:30PM OR first come\, first serve in case we run out of allocated discount tickets. *Doors open at 10:30pm due to a special event ending prior to the club night. Must be checked in by allotted time to receive discount. Early arrival is strongly recommended! Please submit for guest list before 6pm on the day of the event! \n6/8/18 Jayceeoh\, JayKode\, Jeremiah Red\, FrankEazy \nCONTROL returns to Avalon Hollywood featuring Jayceeoh\,Jaykode\,Jeremiah Red and FrankEazy for a wild eclectic music filled night brought to you by Roq n Beats \nThe founder of “Super 7 Records” Jayceeoh will be making his triumphant return to Avalon Hollywood. He starting his career out in a different way\, Jayceeoh beat the competition to win “Master of the Mix” on VH1 and later that year released his first hit single “DAMN”. When not performing in over 30 countries\, you can find him producing and releasing his own heavy trap and bass music. His award winning turntablist skills will make for an epic night this friday in Hollywood. \nLos Angeles based DJ\, JayKode will be bringing his future bass and trap sounds to showcase at CONTROL. He started making music at the young age of 7 with the piano and eventually learned how to play the guitar at 15 and pioneered his own sound “classical bass” by combing his piano and guitar skills. Known for his massive singles “Know Better and “Origin” which are some of the many tools he will use to ignite the Avalon dancefloor. \nMake sure to secure your tickets for this edition of CONTROL with Roq n Beats at Avalon on Friday June 8th with Jayceeoh\, Jaykode with local support from Jeremiah Red and FrankEazy. \n\nFill out my online form.\n\n  Fill out my Wufoo form!
URL:https://edmlife.com/event/jayceeoh-jaykode-jeremiah-red-avalon/
LOCATION:Avalon Hollywood\, 1735 Vine Street\, Hollywood\, CA\, 90028\, United States
END:VEVENT
BEGIN:VEVENT
DTSTART;TZID=America/Los_Angeles:20180608T220000
DTEND;TZID=America/Los_Angeles:20180608T220000
DTSTAMP:20260419T150319
CREATED:20180531T224448Z
LAST-MODIFIED:20180531T224448Z
UID:12072-1528495200-1528495200@edmlife.com
SUMMARY:EOS LAUNCH PARTY @ Temple SF
DESCRIPTION:Please submit for guest list before 6pm on the day of the event! \n\nFill out my online form.\n\n  Fill out my Wufoo form!
URL:https://edmlife.com/event/eos-launch-party-temple-sf/
LOCATION:Temple SF\, 540 Howard Street\, 1st Floor\, San Francisco\, CA\, 94105\, United States
END:VEVENT
BEGIN:VEVENT
DTSTART;TZID=America/Los_Angeles:20180608T220000
DTEND;TZID=America/Los_Angeles:20180608T220000
DTSTAMP:20260419T150319
CREATED:20180515T223310Z
LAST-MODIFIED:20180606T205529Z
UID:11917-1528495200-1528495200@edmlife.com
SUMMARY:YehMe2 @ Academy LA
DESCRIPTION:$5 OFF with Promo Code: PRAYERHANDS\, or ladies we got you covered before 11pm + guys inquire for details! Please submit for guest list before 6pm on the day of the event!\n\nFill out my online form.\n\n  Fill out my Wufoo form!
URL:https://edmlife.com/event/yehme2-academy-la/
LOCATION:Academy\, 6021 Hollywood Blvd\, Los Angeles\, CA\, 90028\, United States
END:VEVENT
BEGIN:VEVENT
DTSTART;TZID=America/Los_Angeles:20180608T220000
DTEND;TZID=America/Los_Angeles:20180608T220000
DTSTAMP:20260419T150319
CREATED:20180425T072128Z
LAST-MODIFIED:20180606T213426Z
UID:11655-1528495200-1528495200@edmlife.com
SUMMARY:Bassjackers @ Exchange LA
DESCRIPTION:$5 OFF with Promo Code: JACKINDABASS\, or ladies we got you covered before 11pm + guys inquire for details! Please submit for guest list before 6pm on the day of the event!\n\nFill out my online form.\n\n  Fill out my Wufoo form!
URL:https://edmlife.com/event/bassjackers-exchange-la/
LOCATION:Exchange LA\, 618 S Spring St\, Los Angeles\, CA\, 90014\, United States
END:VEVENT
BEGIN:VEVENT
DTSTART;TZID=America/Los_Angeles:20180602T220000
DTEND;TZID=America/Los_Angeles:20180602T220000
DTSTAMP:20260419T150319
CREATED:20180531T073526Z
LAST-MODIFIED:20180601T065337Z
UID:12052-1527976800-1527976800@edmlife.com
SUMMARY:Carnage @ Academy
DESCRIPTION:Unfortunately No Guest List for this event.
URL:https://edmlife.com/event/carnage-academy/
LOCATION:Academy\, 6021 Hollywood Blvd\, Los Angeles\, CA\, 90028\, United States
END:VEVENT
BEGIN:VEVENT
DTSTART;TZID=America/Los_Angeles:20180602T220000
DTEND;TZID=America/Los_Angeles:20180602T220000
DTSTAMP:20260419T150319
CREATED:20180531T065337Z
LAST-MODIFIED:20180601T063007Z
UID:12043-1527976800-1527976800@edmlife.com
SUMMARY:Showtek @ Exchange LA
DESCRIPTION:Unfortunately No Guest List for this event.
URL:https://edmlife.com/event/showtek-exchange-la/
LOCATION:Exchange LA\, 618 S Spring St\, Los Angeles\, CA\, 90014\, United States
END:VEVENT
BEGIN:VEVENT
DTSTART;TZID=America/Los_Angeles:20180602T220000
DTEND;TZID=America/Los_Angeles:20180602T220000
DTSTAMP:20260419T150319
CREATED:20180525T045241Z
LAST-MODIFIED:20180601T071509Z
UID:12027-1527976800-1527976800@edmlife.com
SUMMARY:Chicane | 4 Strings | Yin Yang @ Avalon
DESCRIPTION:10% OFF with Promo Code: EDMLIFE\, $15 before 11pm OR first come\, first serve in case we run out of allocated discount tickets. Please submit for guest list before 6pm on the day of the event!\n\nFill out my online form.\n\n  Fill out my Wufoo form!
URL:https://edmlife.com/event/chicane-4-strings-yin-yang-avalon/
LOCATION:Avalon Hollywood\, 1735 Vine Street\, Hollywood\, CA\, 90028\, United States
END:VEVENT
BEGIN:VEVENT
DTSTART;TZID=America/Los_Angeles:20180602T220000
DTEND;TZID=America/Los_Angeles:20180602T220000
DTSTAMP:20260419T150319
CREATED:20180523T025433Z
LAST-MODIFIED:20180523T025433Z
UID:12002-1527976800-1527976800@edmlife.com
SUMMARY:VALENTINO KHAN @ Temple SF
DESCRIPTION:Please submit for guest list before 6pm on the day of the event! \n\nFill out my online form.\n\n  Fill out my Wufoo form!
URL:https://edmlife.com/event/valentino-khan-temple-sf/
LOCATION:Temple SF\, 540 Howard Street\, 1st Floor\, San Francisco\, CA\, 94105\, United States
END:VEVENT
BEGIN:VEVENT
DTSTART;TZID=America/Los_Angeles:20180601T220000
DTEND;TZID=America/Los_Angeles:20180601T220000
DTSTAMP:20260419T150319
CREATED:20180531T072520Z
LAST-MODIFIED:20180601T064625Z
UID:12049-1527890400-1527890400@edmlife.com
SUMMARY:Doctor P | Crizzly | ConRank @ Academy
DESCRIPTION:$5 OFF with Promo Code: 2018\, or ladies we got you covered before 11pm (limited list) + guys inquire for details! Please submit for guest list before 6pm on the day of the event at guestlist@edmlife.com!\n\nFill out my online form.\n\n  Fill out my Wufoo form!
URL:https://edmlife.com/event/doctor-p-crizzly-conrank-academy/
LOCATION:Academy\, 6021 Hollywood Blvd\, Los Angeles\, CA\, 90028\, United States
END:VEVENT
BEGIN:VEVENT
DTSTART;TZID=America/Los_Angeles:20180601T220000
DTEND;TZID=America/Los_Angeles:20180601T220000
DTSTAMP:20260419T150319
CREATED:20180523T024442Z
LAST-MODIFIED:20180523T024442Z
UID:11999-1527890400-1527890400@edmlife.com
SUMMARY:JADORE @ Temple SF
DESCRIPTION:Please submit for guest list before 6pm on the day of the event! \n\nFill out my online form.\n\n  Fill out my Wufoo form!
URL:https://edmlife.com/event/jadore-temple-sf/
LOCATION:Temple SF\, 540 Howard Street\, 1st Floor\, San Francisco\, CA\, 94105\, United States
END:VEVENT
BEGIN:VEVENT
DTSTART;TZID=America/Los_Angeles:20180601T220000
DTEND;TZID=America/Los_Angeles:20180601T220000
DTSTAMP:20260419T150319
CREATED:20180425T073022Z
LAST-MODIFIED:20180601T062314Z
UID:11658-1527890400-1527890400@edmlife.com
SUMMARY:MaRlo | Ørjan Nilsen | David Gravell @ Exchange LA
DESCRIPTION:$5 OFF with Promo Code: TRANCEFAMILY\, or ladies we got you covered before 11pm (limited list) + guys inquire for details! Please submit for guest list before 6pm on the day of the event!\n\nFill out my online form.\n\n  Fill out my Wufoo form!
URL:https://edmlife.com/event/marlo-orjan-nilsen-david-gravell-exchange-la/
LOCATION:Exchange LA\, 618 S Spring St\, Los Angeles\, CA\, 90014\, United States
END:VEVENT
BEGIN:VEVENT
DTSTART;TZID=America/Los_Angeles:20180601T213000
DTEND;TZID=America/Los_Angeles:20180601T213000
DTSTAMP:20260419T150319
CREATED:20180525T044304Z
LAST-MODIFIED:20180601T070647Z
UID:12024-1527888600-1527888600@edmlife.com
SUMMARY:ETC!ETC! | Walshy Fire | Jeremiah Red @ Avalon
DESCRIPTION:10% OFF with Promo Code: EDMLIFE\, $10 before 10:30pm OR first come\, first serve in case we run out of allocated discount tickets. Please submit for guest list before 6pm on the day of the event!\n\nFill out my online form.\n\n  Fill out my Wufoo form!
URL:https://edmlife.com/event/etcetc-walshy-fire-jeremiah-red-avalon/
LOCATION:Avalon Hollywood\, 1735 Vine Street\, Hollywood\, CA\, 90028\, United States
END:VEVENT
BEGIN:VEVENT
DTSTART;TZID=America/Los_Angeles:20180531T220000
DTEND;TZID=America/Los_Angeles:20180531T220000
DTSTAMP:20260419T150319
CREATED:20180523T023655Z
LAST-MODIFIED:20180523T023655Z
UID:11996-1527804000-1527804000@edmlife.com
SUMMARY:DJ D-SHARP @ Temple SF
DESCRIPTION:Please submit for guest list before 6pm on the day of the event! \n\nFill out my online form.\n\n  Fill out my Wufoo form!
URL:https://edmlife.com/event/dj-d-sharp-temple-sf/
LOCATION:Temple SF\, 540 Howard Street\, 1st Floor\, San Francisco\, CA\, 94105\, United States
END:VEVENT
BEGIN:VEVENT
DTSTART;TZID=America/Los_Angeles:20180527T220000
DTEND;TZID=America/Los_Angeles:20180527T220000
DTSTAMP:20260419T150319
CREATED:20180523T022757Z
LAST-MODIFIED:20180523T022757Z
UID:11993-1527458400-1527458400@edmlife.com
SUMMARY:JAY SEAN @ Temple SF
DESCRIPTION:Please submit for guest list before 6pm on the day of the event! \n\nFill out my online form.\n\n  Fill out my Wufoo form!
URL:https://edmlife.com/event/jay-sean-temple-sf/
LOCATION:Temple SF\, 540 Howard Street\, 1st Floor\, San Francisco\, CA\, 94105\, United States
END:VEVENT
BEGIN:VEVENT
DTSTART;TZID=America/Los_Angeles:20180527T220000
DTEND;TZID=America/Los_Angeles:20180527T220000
DTSTAMP:20260419T150319
CREATED:20180523T011312Z
LAST-MODIFIED:20180523T011351Z
UID:11977-1527458400-1527458400@edmlife.com
SUMMARY:Metro Boomin @ Exchange LA
DESCRIPTION:Ladies we got you covered before 11pm (very limited list)! Please submit for guest list before 6pm on the day of the event! \n\nFill out my online form.\n\n  Fill out my Wufoo form!
URL:https://edmlife.com/event/metro-boomin-exchange-la-this/
LOCATION:Exchange LA\, 618 S Spring St\, Los Angeles\, CA\, 90014\, United States
END:VEVENT
BEGIN:VEVENT
DTSTART;TZID=America/Los_Angeles:20180527T220000
DTEND;TZID=America/Los_Angeles:20180527T220000
DTSTAMP:20260419T150319
CREATED:20180522T235744Z
LAST-MODIFIED:20180522T235833Z
UID:11961-1527458400-1527458400@edmlife.com
SUMMARY:Morgan Page @ Academy
DESCRIPTION:$5 OFF with Promo Code: 2018\, or ladies we got you covered before 11pm (limited list) + guys inquire for details! Please submit for guest list before 6pm on the day of the event! \n\nFill out my online form.\n\n  Fill out my Wufoo form!
URL:https://edmlife.com/event/morgan-page-academy/
LOCATION:Academy\, 6021 Hollywood Blvd\, Los Angeles\, CA\, 90028\, United States
END:VEVENT
BEGIN:VEVENT
DTSTART;TZID=America/Los_Angeles:20180526T220000
DTEND;TZID=America/Los_Angeles:20180526T220000
DTSTAMP:20260419T150319
CREATED:20180523T020343Z
LAST-MODIFIED:20180524T044540Z
UID:11984-1527372000-1527372000@edmlife.com
SUMMARY:Coming Soon!!! | Vibe Tribe | Khardiac @ Avalon
DESCRIPTION:10% OFF with Promo Code: EDMLIFE\, $15 before 11pm OR first come\, first serve in case we run out of allocated discount tickets. Please submit for guest list before 6pm on the day of the event!\n\nFill out my online form.\n\n  Fill out my Wufoo form!
URL:https://edmlife.com/event/coming-soon-vibe-tribe-khardiac-avalon/
LOCATION:Avalon Hollywood\, 1735 Vine Street\, Hollywood\, CA\, 90028\, United States
END:VEVENT
BEGIN:VEVENT
DTSTART;TZID=America/Los_Angeles:20180526T220000
DTEND;TZID=America/Los_Angeles:20180526T220000
DTSTAMP:20260419T150319
CREATED:20180523T010358Z
LAST-MODIFIED:20180523T010358Z
UID:11974-1527372000-1527372000@edmlife.com
SUMMARY:Dada Life @ Exchange LA
DESCRIPTION:Ladies we got you covered before 11pm (very limited list)! Please submit for guest list before 6pm on the day of the event! \n\nFill out my online form.\n\n  Fill out my Wufoo form!
URL:https://edmlife.com/event/dada-life-exchange-la/
LOCATION:Exchange LA\, 618 S Spring St\, Los Angeles\, CA\, 90014\, United States
END:VEVENT
BEGIN:VEVENT
DTSTART;TZID=America/Los_Angeles:20180526T220000
DTEND;TZID=America/Los_Angeles:20180526T220000
DTSTAMP:20260419T150319
CREATED:20180522T233456Z
LAST-MODIFIED:20180524T045150Z
UID:11958-1527372000-1527372000@edmlife.com
SUMMARY:Andrew Rayel @ Academy
DESCRIPTION:Unfortunately no Guest List for this event.
URL:https://edmlife.com/event/andrew-rayel-academy/
LOCATION:Academy\, 6021 Hollywood Blvd\, Los Angeles\, CA\, 90028\, United States
END:VEVENT
BEGIN:VEVENT
DTSTART;TZID=America/Los_Angeles:20180526T220000
DTEND;TZID=America/Los_Angeles:20180526T220000
DTSTAMP:20260419T150319
CREATED:20180509T071452Z
LAST-MODIFIED:20180509T071452Z
UID:11798-1527372000-1527372000@edmlife.com
SUMMARY:MORTEN @ Temple SF
DESCRIPTION:Please submit for guest list before 6pm on the day of the event! \n\nFill out my online form.\n\n  Fill out my Wufoo form!
URL:https://edmlife.com/event/morten-temple-sf/
LOCATION:Temple SF\, 540 Howard Street\, 1st Floor\, San Francisco\, CA\, 94105\, United States
END:VEVENT
BEGIN:VEVENT
DTSTART;TZID=America/Los_Angeles:20180525T220000
DTEND;TZID=America/Los_Angeles:20180525T220000
DTSTAMP:20260419T150319
CREATED:20180523T022025Z
LAST-MODIFIED:20180523T022025Z
UID:11990-1527285600-1527285600@edmlife.com
SUMMARY:LUCAS | CHRIS CLOUSE | JUSTIN WARD @ Temple SF
DESCRIPTION:Please submit for guest list before 6pm on the day of the event! \n\nFill out my online form.\n\n  Fill out my Wufoo form!
URL:https://edmlife.com/event/lucas-chris-clouse-justin-ward-temple-sf/
LOCATION:Temple SF\, 540 Howard Street\, 1st Floor\, San Francisco\, CA\, 94105\, United States
END:VEVENT
BEGIN:VEVENT
DTSTART;TZID=America/Los_Angeles:20180525T220000
DTEND;TZID=America/Los_Angeles:20180525T220000
DTSTAMP:20260419T150319
CREATED:20180523T005513Z
LAST-MODIFIED:20180523T005513Z
UID:11969-1527285600-1527285600@edmlife.com
SUMMARY:Gareth Emery @ Exchange LA
DESCRIPTION:Ladies we got you covered before 11pm (very limited list)! Please submit for guest list before 6pm on the day of the event! \n\nFill out my online form.\n\n  Fill out my Wufoo form!
URL:https://edmlife.com/event/gareth-emery-exchange-la/
LOCATION:Exchange LA\, 618 S Spring St\, Los Angeles\, CA\, 90014\, United States
END:VEVENT
BEGIN:VEVENT
DTSTART;TZID=America/Los_Angeles:20180525T220000
DTEND;TZID=America/Los_Angeles:20180525T220000
DTSTAMP:20260419T150319
CREATED:20180510T070128Z
LAST-MODIFIED:20180522T231823Z
UID:11843-1527285600-1527285600@edmlife.com
SUMMARY:Feed Me @ Academy
DESCRIPTION:$5 OFF with Promo Code: CITIZEN\, or ladies we got you covered before 11pm + guys inquire for details! Please submit for guest list before 6pm on the day of the event! \n\nFill out my online form.\n\n  Fill out my Wufoo form!
URL:https://edmlife.com/event/feed-me-academy/
LOCATION:Academy\, 6021 Hollywood Blvd\, Los Angeles\, CA\, 90028\, United States
END:VEVENT
BEGIN:VEVENT
DTSTART;TZID=America/Los_Angeles:20180525T093000
DTEND;TZID=America/Los_Angeles:20180525T093000
DTSTAMP:20260419T150319
CREATED:20180523T015328Z
LAST-MODIFIED:20180524T042237Z
UID:11981-1527240600-1527240600@edmlife.com
SUMMARY:Hydraulix | Oski | BigHitterBurt @ Avalon
DESCRIPTION:10% OFF with Promo Code: EDMLIFE\, FREE before 10:30PM (21+)\, and $10 before 10:30PM (19-20)! Must be checked in by allotted time to receive discount. Early arrival is strongly recommended! Please submit for guest list before 6pm on the day of the event!\n\nFill out my online form.\n\n  Fill out my Wufoo form!
URL:https://edmlife.com/event/hydraulix-oski-bighitterburt-avalon/
LOCATION:Avalon Hollywood\, 1735 Vine Street\, Hollywood\, CA\, 90028\, United States
END:VEVENT
BEGIN:VEVENT
DTSTART;TZID=America/Los_Angeles:20180524T220000
DTEND;TZID=America/Los_Angeles:20180524T220000
DTSTAMP:20260419T150319
CREATED:20180523T021344Z
LAST-MODIFIED:20180523T021344Z
UID:11987-1527199200-1527199200@edmlife.com
SUMMARY:FRANZEN @ Temple SF
DESCRIPTION:Please submit for guest list before 6pm on the day of the event! \n\nFill out my online form.\n\n  Fill out my Wufoo form!
URL:https://edmlife.com/event/franzen-temple-sf/
LOCATION:Temple SF\, 540 Howard Street\, 1st Floor\, San Francisco\, CA\, 94105\, United States
END:VEVENT
BEGIN:VEVENT
DTSTART;TZID=America/Los_Angeles:20180524T220000
DTEND;TZID=America/Los_Angeles:20180524T220000
DTSTAMP:20260419T150319
CREATED:20180523T004128Z
LAST-MODIFIED:20180523T004128Z
UID:11965-1527199200-1527199200@edmlife.com
SUMMARY:Armin van Buuren @ Exchange LA
DESCRIPTION:GA Sold Out. VIP Only. Unfortunately no Guest List for this event.
URL:https://edmlife.com/event/armin-van-buuren-exchange-la/
LOCATION:Exchange LA\, 618 S Spring St\, Los Angeles\, CA\, 90014\, United States
END:VEVENT
BEGIN:VEVENT
DTSTART;TZID=America/Los_Angeles:20180519T220000
DTEND;TZID=America/Los_Angeles:20180519T220000
DTSTAMP:20260419T150319
CREATED:20180517T071322Z
LAST-MODIFIED:20180517T071322Z
UID:11930-1526767200-1526767200@edmlife.com
SUMMARY:KhoMha | 1% | Alex Vela | J.WU | TLuxx @ Avalon
DESCRIPTION:10% OFF with Promo Code: EDMLIFE\, $15 before 11pm OR first come\, first serve in case we run out of allocated discount tickets. Please submit for guest list before 6pm on the day of the event! \n\nFill out my online form.\n\n  Fill out my Wufoo form!
URL:https://edmlife.com/event/khomha-1-alex-vela-j-wu-tluxx-avalon/
LOCATION:Avalon Hollywood\, 1735 Vine Street\, Hollywood\, CA\, 90028\, United States
END:VEVENT
BEGIN:VEVENT
DTSTART;TZID=America/Los_Angeles:20180519T220000
DTEND;TZID=America/Los_Angeles:20180519T220000
DTSTAMP:20260419T150319
CREATED:20180517T064339Z
LAST-MODIFIED:20180517T064339Z
UID:11924-1526767200-1526767200@edmlife.com
SUMMARY:HAVANA BROWN @ Temple SF
DESCRIPTION:Please submit for guest list before 6pm on the day of the event! \n\nFill out my online form.\n\n  Fill out my Wufoo form!
URL:https://edmlife.com/event/havana-brown-temple-sf/
LOCATION:Temple SF\, 540 Howard Street\, 1st Floor\, San Francisco\, CA\, 94105\, United States
END:VEVENT
BEGIN:VEVENT
DTSTART;TZID=America/Los_Angeles:20180519T220000
DTEND;TZID=America/Los_Angeles:20180519T220000
DTSTAMP:20260419T150319
CREATED:20180515T071339Z
LAST-MODIFIED:20180517T073337Z
UID:11911-1526767200-1526767200@edmlife.com
SUMMARY:Space Yacht: Secret Lineup @ Exchange LA
DESCRIPTION:No Guest List for this event.
URL:https://edmlife.com/event/space-yacht-secret-lineup-exchange-la-2/
LOCATION:Exchange LA\, 618 S Spring St\, Los Angeles\, CA\, 90014\, United States
END:VEVENT
BEGIN:VEVENT
DTSTART;TZID=America/Los_Angeles:20180519T220000
DTEND;TZID=America/Los_Angeles:20180519T220000
DTSTAMP:20260419T150319
CREATED:20180515T064630Z
LAST-MODIFIED:20180517T075330Z
UID:11905-1526767200-1526767200@edmlife.com
SUMMARY:Don Diablo @ Academy
DESCRIPTION:$5 OFF with Promo Code: 2018\, or ladies we got you covered before 11pm (very limited list). Please submit for guest list before 6pm on the day of the event!\n\nFill out my online form.\n\n  Fill out my Wufoo form!
URL:https://edmlife.com/event/don-diablo-academy/
LOCATION:Academy\, 6021 Hollywood Blvd\, Los Angeles\, CA\, 90028\, United States
END:VEVENT
END:VCALENDAR