BEGIN:VCALENDAR
VERSION:2.0
PRODID:-//EDM Life - ECPv6.15.20//NONSGML v1.0//EN
CALSCALE:GREGORIAN
METHOD:PUBLISH
X-WR-CALNAME:EDM Life
X-ORIGINAL-URL:https://edmlife.com
X-WR-CALDESC:Events for EDM Life
REFRESH-INTERVAL;VALUE=DURATION:PT1H
X-Robots-Tag:noindex
X-PUBLISHED-TTL:PT1H
BEGIN:VTIMEZONE
TZID:America/Los_Angeles
BEGIN:DAYLIGHT
TZOFFSETFROM:-0800
TZOFFSETTO:-0700
TZNAME:PDT
DTSTART:20170312T100000
END:DAYLIGHT
BEGIN:STANDARD
TZOFFSETFROM:-0700
TZOFFSETTO:-0800
TZNAME:PST
DTSTART:20171105T090000
END:STANDARD
BEGIN:DAYLIGHT
TZOFFSETFROM:-0800
TZOFFSETTO:-0700
TZNAME:PDT
DTSTART:20180311T100000
END:DAYLIGHT
BEGIN:STANDARD
TZOFFSETFROM:-0700
TZOFFSETTO:-0800
TZNAME:PST
DTSTART:20181104T090000
END:STANDARD
BEGIN:DAYLIGHT
TZOFFSETFROM:-0800
TZOFFSETTO:-0700
TZNAME:PDT
DTSTART:20190310T100000
END:DAYLIGHT
BEGIN:STANDARD
TZOFFSETFROM:-0700
TZOFFSETTO:-0800
TZNAME:PST
DTSTART:20191103T090000
END:STANDARD
END:VTIMEZONE
BEGIN:VEVENT
DTSTART;TZID=America/Los_Angeles:20180518T220000
DTEND;TZID=America/Los_Angeles:20180518T220000
DTSTAMP:20260419T191442
CREATED:20180515T070148Z
LAST-MODIFIED:20180517T072637Z
UID:11908-1526680800-1526680800@edmlife.com
SUMMARY:Solardo | Harvard Bass @ Exchange LA
DESCRIPTION:Ladies we got you covered before 11pm + guys inquire for details. Please submit for guest list before 6pm on the day of the event!\n\nFill out my online form.\n\n  Fill out my Wufoo form!
URL:https://edmlife.com/event/solardo-harvard-bass-exchange-la/
LOCATION:Exchange LA\, 618 S Spring St\, Los Angeles\, CA\, 90014\, United States
END:VEVENT
BEGIN:VEVENT
DTSTART;TZID=America/Los_Angeles:20180518T220000
DTEND;TZID=America/Los_Angeles:20180518T220000
DTSTAMP:20260419T191442
CREATED:20180515T063556Z
LAST-MODIFIED:20180517T074320Z
UID:11902-1526680800-1526680800@edmlife.com
SUMMARY:Paris & Simo @ Academy
DESCRIPTION:$5 OFF with Promo Code: 2018\, or ladies we got you covered before 11pm + guys inquire for details! Please submit for guest list before 6pm on the day of the event!\n\nFill out my online form.\n\n  Fill out my Wufoo form!
URL:https://edmlife.com/event/paris-simo-academy/
LOCATION:Academy\, 6021 Hollywood Blvd\, Los Angeles\, CA\, 90028\, United States
END:VEVENT
BEGIN:VEVENT
DTSTART;TZID=America/Los_Angeles:20180518T220000
DTEND;TZID=America/Los_Angeles:20180518T220000
DTSTAMP:20260419T191442
CREATED:20180509T070524Z
LAST-MODIFIED:20180509T070524Z
UID:11794-1526680800-1526680800@edmlife.com
SUMMARY:BEN NICKY @ Temple SF
DESCRIPTION:Please submit for guest list before 6pm on the day of the event! \n\nFill out my online form.\n\n  Fill out my Wufoo form!
URL:https://edmlife.com/event/ben-nicky-temple-sf/
LOCATION:Temple SF\, 540 Howard Street\, 1st Floor\, San Francisco\, CA\, 94105\, United States
END:VEVENT
BEGIN:VEVENT
DTSTART;TZID=America/Los_Angeles:20180518T213000
DTEND;TZID=America/Los_Angeles:20180518T213000
DTSTAMP:20260419T191442
CREATED:20180515T073501Z
LAST-MODIFIED:20180517T065825Z
UID:11914-1526679000-1526679000@edmlife.com
SUMMARY:Christian Smith | Hobo | Brandon Heinz | Jon Mon @ Avalon
DESCRIPTION:10% OFF with Promo Code: EDMLIFE\, $10 before 10:30pm OR first come\, first serve in case we run out of allocated discount tickets. Please submit for guest list before 6pm on the day of the event!\n\nFill out my online form.\n\n  Fill out my Wufoo form!
URL:https://edmlife.com/event/christian-smith-hobo-brandon-heinz-jon-mon-avalon/
LOCATION:Avalon Hollywood\, 1735 Vine Street\, Hollywood\, CA\, 90028\, United States
END:VEVENT
BEGIN:VEVENT
DTSTART;TZID=America/Los_Angeles:20180518T190000
DTEND;TZID=America/Los_Angeles:20180521T053000
DTSTAMP:20260419T191442
CREATED:20170913T200919Z
LAST-MODIFIED:20170913T200919Z
UID:9509-1526670000-1526880600@edmlife.com
SUMMARY:EDC Las Vegas 2018 @ Las Vegas Motor Speedway
DESCRIPTION: 
URL:https://edmlife.com/event/edc-las-vegas-2018-las-vegas-motor-speedway/
LOCATION:Las Vegas Motor Speedway\, 7000 N Las Vegas Blvd\, Las Vegas\, 89115\, United States
END:VEVENT
BEGIN:VEVENT
DTSTART;TZID=America/Los_Angeles:20180512T220000
DTEND;TZID=America/Los_Angeles:20180512T220000
DTSTAMP:20260419T191442
CREATED:20180510T063956Z
LAST-MODIFIED:20180510T063956Z
UID:11840-1526162400-1526162400@edmlife.com
SUMMARY:Bro Safari @ Academy
DESCRIPTION:$5 OFF with Promo Code: 2018\, or ladies we got you covered before 11pm + guys inquire for details! Please submit for guest list before 6pm on the day of the event! \n\nFill out my online form.\n\n  Fill out my Wufoo form!
URL:https://edmlife.com/event/bro-safari-academy/
LOCATION:Academy\, 6021 Hollywood Blvd\, Los Angeles\, CA\, 90028\, United States
END:VEVENT
BEGIN:VEVENT
DTSTART;TZID=America/Los_Angeles:20180512T220000
DTEND;TZID=America/Los_Angeles:20180512T220000
DTSTAMP:20260419T191442
CREATED:20180510T061100Z
LAST-MODIFIED:20180510T061100Z
UID:11834-1526162400-1526162400@edmlife.com
SUMMARY:Pan-Pot @ Exchange LA
DESCRIPTION:Ladies we got you covered before 11pm + guys inquire for details. Please submit for guest list before 6pm on the day of the event! \n\nFill out my online form.\n\n  Fill out my Wufoo form!
URL:https://edmlife.com/event/pan-pot-exchange-la/
LOCATION:Exchange LA\, 618 S Spring St\, Los Angeles\, CA\, 90014\, United States
END:VEVENT
BEGIN:VEVENT
DTSTART;TZID=America/Los_Angeles:20180512T220000
DTEND;TZID=America/Los_Angeles:20180512T220000
DTSTAMP:20260419T191442
CREATED:20180510T053525Z
LAST-MODIFIED:20180510T053525Z
UID:11828-1526162400-1526162400@edmlife.com
SUMMARY:Nick Warren | Öona Dahl | Dance Spirit @ Avalon
DESCRIPTION:10% OFF with Promo Code: EDMLIFE\, $15 before 11pm OR first come\, first serve in case we run out of allocated discount tickets. Please submit for guest list before 6pm on the day of the event! \n\nFill out my online form.\n\n  Fill out my Wufoo form!
URL:https://edmlife.com/event/nick-warren-oona-dahl-dance-spirit-avalon/
LOCATION:Avalon Hollywood\, 1735 Vine Street\, Hollywood\, CA\, 90028\, United States
END:VEVENT
BEGIN:VEVENT
DTSTART;TZID=America/Los_Angeles:20180512T220000
DTEND;TZID=America/Los_Angeles:20180512T220000
DTSTAMP:20260419T191442
CREATED:20180509T065733Z
LAST-MODIFIED:20180509T065733Z
UID:11787-1526162400-1526162400@edmlife.com
SUMMARY:OTTO KNOWS @ Temple SF
DESCRIPTION:Please submit for guest list before 6pm on the day of the event! \n\nFill out my online form.\n\n  Fill out my Wufoo form!
URL:https://edmlife.com/event/otto-knows-temple-sf/
LOCATION:Temple SF\, 540 Howard Street\, 1st Floor\, San Francisco\, CA\, 94105\, United States
END:VEVENT
BEGIN:VEVENT
DTSTART;TZID=America/Los_Angeles:20180511T220000
DTEND;TZID=America/Los_Angeles:20180511T220000
DTSTAMP:20260419T191442
CREATED:20180510T062825Z
LAST-MODIFIED:20180510T062825Z
UID:11837-1526076000-1526076000@edmlife.com
SUMMARY:Sultan & Shepard + Chocolate Puma @ Academy
DESCRIPTION:$5 OFF with Promo Code: 2018\, or ladies we got you covered before 11pm + guys inquire for details! Please submit for guest list before 6pm on the day of the event! \n\nFill out my online form.\n\n  Fill out my Wufoo form!
URL:https://edmlife.com/event/sultan-shepard-chocolate-puma-academy/
LOCATION:Academy\, 6021 Hollywood Blvd\, Los Angeles\, CA\, 90028\, United States
END:VEVENT
BEGIN:VEVENT
DTSTART;TZID=America/Los_Angeles:20180511T220000
DTEND;TZID=America/Los_Angeles:20180511T220000
DTSTAMP:20260419T191442
CREATED:20180510T055924Z
LAST-MODIFIED:20180510T055924Z
UID:11831-1526076000-1526076000@edmlife.com
SUMMARY:Will Clarke @ Exchange LA
DESCRIPTION:Ladies we got you covered before 11pm + guys inquire for details. Please submit for guest list before 6pm on the day of the event! \n\nFill out my online form.\n\n  Fill out my Wufoo form!
URL:https://edmlife.com/event/will-clarke-exchange-la/
LOCATION:Exchange LA\, 618 S Spring St\, Los Angeles\, CA\, 90014\, United States
END:VEVENT
BEGIN:VEVENT
DTSTART;TZID=America/Los_Angeles:20180511T220000
DTEND;TZID=America/Los_Angeles:20180511T220000
DTSTAMP:20260419T191442
CREATED:20180509T064919Z
LAST-MODIFIED:20180509T064919Z
UID:11784-1526076000-1526076000@edmlife.com
SUMMARY:ZAXX @ Temple SF
DESCRIPTION:Please submit for guest list before 6pm on the day of the event! \n\nFill out my online form.\n\n  Fill out my Wufoo form!
URL:https://edmlife.com/event/zaxx-temple-sf/
LOCATION:Temple SF\, 540 Howard Street\, 1st Floor\, San Francisco\, CA\, 94105\, United States
END:VEVENT
BEGIN:VEVENT
DTSTART;TZID=America/Los_Angeles:20180511T213000
DTEND;TZID=America/Los_Angeles:20180511T213000
DTSTAMP:20260419T191442
CREATED:20180510T052326Z
LAST-MODIFIED:20180510T052326Z
UID:11825-1526074200-1526074200@edmlife.com
SUMMARY:Sak Noel | Dave Nada | Jenn Morel @ Avalon
DESCRIPTION:10% OFF with Promo Code: EDMLIFE\, $10 before 10:30pm OR first come\, first serve in case we run out of allocated discount tickets. Please submit for guest list before 6pm on the day of the event! \n\nFill out my online form.\n\n  Fill out my Wufoo form!
URL:https://edmlife.com/event/sak-noel-dave-nada-jenn-morel-avalon/
LOCATION:Avalon Hollywood\, 1735 Vine Street\, Hollywood\, CA\, 90028\, United States
END:VEVENT
BEGIN:VEVENT
DTSTART;TZID=America/Los_Angeles:20180505T220000
DTEND;TZID=America/Los_Angeles:20180505T220000
DTSTAMP:20260419T191442
CREATED:20180504T045139Z
LAST-MODIFIED:20180504T045139Z
UID:11759-1525557600-1525557600@edmlife.com
SUMMARY:BURNS @ Temple SF
DESCRIPTION:Please submit for guest list before 6pm on the day of the event! \n\nFill out my online form.\n\n  Fill out my Wufoo form!
URL:https://edmlife.com/event/burns-temple-sf/
LOCATION:Temple SF\, 540 Howard Street\, 1st Floor\, San Francisco\, CA\, 94105\, United States
END:VEVENT
BEGIN:VEVENT
DTSTART;TZID=America/Los_Angeles:20180505T220000
DTEND;TZID=America/Los_Angeles:20180505T220000
DTSTAMP:20260419T191442
CREATED:20180504T043019Z
LAST-MODIFIED:20180504T043019Z
UID:11752-1525557600-1525557600@edmlife.com
SUMMARY:Paul Oakenfold | DJ Fluencee | Mark Lewis @ Avalon
DESCRIPTION:10% OFF with Promo Code: EDMLIFE\, $20 before 11pm OR first come\, first serve in case we run out of allocated discount tickets. Please submit for guest list before 6pm on the day of the event! \n\nFill out my online form.\n\n  Fill out my Wufoo form!
URL:https://edmlife.com/event/paul-oakenfold-dj-fluencee-mark-lewis-avalon/
LOCATION:Avalon Hollywood\, 1735 Vine Street\, Hollywood\, CA\, 90028\, United States
END:VEVENT
BEGIN:VEVENT
DTSTART;TZID=America/Los_Angeles:20180505T220000
DTEND;TZID=America/Los_Angeles:20180505T220000
DTSTAMP:20260419T191442
CREATED:20180425T074149Z
LAST-MODIFIED:20180504T040103Z
UID:11661-1525557600-1525557600@edmlife.com
SUMMARY:Netsky @ Exchange LA
DESCRIPTION:$5 OFF with Promo Code: BASSRUSH\, or ladies we got you covered before 11pm (limited capacity) + guys inquire for details. Please submit for guest list before 6pm on the day of the event!\n\nFill out my online form.\n\n  Fill out my Wufoo form!
URL:https://edmlife.com/event/netsky-exchange-la-2/
LOCATION:Exchange LA\, 618 S Spring St\, Los Angeles\, CA\, 90014\, United States
END:VEVENT
BEGIN:VEVENT
DTSTART;TZID=America/Los_Angeles:20180505T220000
DTEND;TZID=America/Los_Angeles:20180505T220000
DTSTAMP:20260419T191442
CREATED:20180425T064054Z
LAST-MODIFIED:20180504T032740Z
UID:11646-1525557600-1525557600@edmlife.com
SUMMARY:ARTY @ Academy
DESCRIPTION:$5 OFF with Promo Code: RAIN\, or ladies we got you covered before 11pm + guys inquire for details. Please submit for guest list before 6pm on the day of the event!\n\nFill out my online form.\n\n  Fill out my Wufoo form!
URL:https://edmlife.com/event/arty-academy/
LOCATION:Academy\, 6021 Hollywood Blvd\, Los Angeles\, CA\, 90028\, United States
END:VEVENT
BEGIN:VEVENT
DTSTART;TZID=America/Los_Angeles:20180504T220000
DTEND;TZID=America/Los_Angeles:20180504T220000
DTSTAMP:20260419T191442
CREATED:20180504T044057Z
LAST-MODIFIED:20180504T044145Z
UID:11755-1525471200-1525471200@edmlife.com
SUMMARY:STELLAR @ Temple SF
DESCRIPTION:Please submit for guest list before 6pm on the day of the event! \n\nFill out my online form.\n\n  Fill out my Wufoo form!
URL:https://edmlife.com/event/stellar-temple-sf-2/
LOCATION:Temple SF\, 540 Howard Street\, 1st Floor\, San Francisco\, CA\, 94105\, United States
END:VEVENT
BEGIN:VEVENT
DTSTART;TZID=America/Los_Angeles:20180504T220000
DTEND;TZID=America/Los_Angeles:20180504T220000
DTSTAMP:20260419T191442
CREATED:20180504T034537Z
LAST-MODIFIED:20180504T034537Z
UID:11744-1525471200-1525471200@edmlife.com
SUMMARY:BT | Late Night Alumni @ Exchange LA
DESCRIPTION:Ladies we got you covered before 11pm + guys inquire for details. Please submit for guest list before 6pm on the day of the event! \n\nFill out my online form.\n\n  Fill out my Wufoo form!
URL:https://edmlife.com/event/bt-late-night-alumni-exchange-la/
LOCATION:Exchange LA\, 618 S Spring St\, Los Angeles\, CA\, 90014\, United States
END:VEVENT
BEGIN:VEVENT
DTSTART;TZID=America/Los_Angeles:20180504T220000
DTEND;TZID=America/Los_Angeles:20180504T220000
DTSTAMP:20260419T191442
CREATED:20180425T070824Z
LAST-MODIFIED:20180504T031503Z
UID:11652-1525471200-1525471200@edmlife.com
SUMMARY:MakJ @ Academy
DESCRIPTION:$5 OFF with Promo Code: BUMBUM\, or ladies we got you covered before 11pm + guys inquire for details. Please submit for guest list before 6pm on the day of the event!\n\nFill out my online form.\n\n  Fill out my Wufoo form!
URL:https://edmlife.com/event/makj-academy/
LOCATION:Academy\, 6021 Hollywood Blvd\, Los Angeles\, CA\, 90028\, United States
END:VEVENT
BEGIN:VEVENT
DTSTART;TZID=America/Los_Angeles:20180504T213000
DTEND;TZID=America/Los_Angeles:20180504T213000
DTSTAMP:20260419T191442
CREATED:20180504T041741Z
LAST-MODIFIED:20180504T041741Z
UID:11749-1525469400-1525469400@edmlife.com
SUMMARY:UZ | Stööki Sound | Rome Fortune @ Avalon
DESCRIPTION:10% OFF with Promo Code: EDMLIFE\, $15 before 10:30pm OR first come\, first serve in case we run out of allocated discount tickets. Please submit for guest list before 6pm on the day of the event! \n\nFill out my online form.\n\n  Fill out my Wufoo form!
URL:https://edmlife.com/event/uz-stooki-sound-rome-fortune-avalon/
LOCATION:Avalon Hollywood\, 1735 Vine Street\, Hollywood\, CA\, 90028\, United States
END:VEVENT
BEGIN:VEVENT
DTSTART;TZID=America/Los_Angeles:20180428T220000
DTEND;TZID=America/Los_Angeles:20180428T220000
DTSTAMP:20260419T191442
CREATED:20180426T070711Z
LAST-MODIFIED:20180426T070711Z
UID:11698-1524952800-1524952800@edmlife.com
SUMMARY:THOMAS GOLD @ Temple SF
DESCRIPTION:Please submit for guest list before 6pm on the day of the event! \n\nFill out my online form.\n\n  Fill out my Wufoo form!
URL:https://edmlife.com/event/thomas-gold-temple-sf/
LOCATION:Temple SF\, 540 Howard Street\, 1st Floor\, San Francisco\, CA\, 94105\, United States
END:VEVENT
BEGIN:VEVENT
DTSTART;TZID=America/Los_Angeles:20180428T220000
DTEND;TZID=America/Los_Angeles:20180428T220000
DTSTAMP:20260419T191442
CREATED:20180426T064436Z
LAST-MODIFIED:20180426T064436Z
UID:11692-1524952800-1524952800@edmlife.com
SUMMARY:Menno de Jong | Kristina Sky | Niko Zogrofos @ Avalon
DESCRIPTION:10% OFF with Promo Code: EDMLIFE\, $15 before 11pm OR first come\, first serve in case we run out of allocated discount tickets. Please submit for guest list before 6pm on the day of the event! \n\nFill out my online form.\n\n  Fill out my Wufoo form!
URL:https://edmlife.com/event/menno-de-jong-kristina-sky-niko-zogrofos-avalon/
LOCATION:Avalon Hollywood\, 1735 Vine Street\, Hollywood\, CA\, 90028\, United States
END:VEVENT
BEGIN:VEVENT
DTSTART;TZID=America/Los_Angeles:20180428T220000
DTEND;TZID=America/Los_Angeles:20180428T220000
DTSTAMP:20260419T191442
CREATED:20180426T061348Z
LAST-MODIFIED:20180426T061348Z
UID:11686-1524952800-1524952800@edmlife.com
SUMMARY:Drumcode Los Angeles @ Exchange LA
DESCRIPTION:Ladies\, we got you covered before 11pm (Limited Capacity)! Please submit for guest list before 6pm on the day of the event! \n\nFill out my online form.\n\n  Fill out my Wufoo form!
URL:https://edmlife.com/event/drumcode-los-angeles-exchange-la/
LOCATION:Exchange LA\, 618 S Spring St\, Los Angeles\, CA\, 90014\, United States
END:VEVENT
BEGIN:VEVENT
DTSTART;TZID=America/Los_Angeles:20180428T220000
DTEND;TZID=America/Los_Angeles:20180428T220000
DTSTAMP:20260419T191442
CREATED:20180403T045942Z
LAST-MODIFIED:20180426T054425Z
UID:11406-1524952800-1524952800@edmlife.com
SUMMARY:Paul Van Dyk @ Academy
DESCRIPTION:$5 OFF with Promo Code: THENON
URL:https://edmlife.com/event/paul-van-dyk-academy/
LOCATION:Academy\, 6021 Hollywood Blvd\, Los Angeles\, CA\, 90028\, United States
END:VEVENT
BEGIN:VEVENT
DTSTART;TZID=America/Los_Angeles:20180427T220000
DTEND;TZID=America/Los_Angeles:20180427T220000
DTSTAMP:20260419T191442
CREATED:20180426T065824Z
LAST-MODIFIED:20180426T065824Z
UID:11695-1524866400-1524866400@edmlife.com
SUMMARY:DJ E5QUIRE @ Temple SF
DESCRIPTION:Please submit for guest list before 6pm on the day of the event! \n\nFill out my online form.\n\n  Fill out my Wufoo form!
URL:https://edmlife.com/event/dj-e5quire-temple-sf/
LOCATION:Temple SF\, 540 Howard Street\, 1st Floor\, San Francisco\, CA\, 94105\, United States
END:VEVENT
BEGIN:VEVENT
DTSTART;TZID=America/Los_Angeles:20180427T220000
DTEND;TZID=America/Los_Angeles:20180427T220000
DTSTAMP:20260419T191442
CREATED:20180426T060050Z
LAST-MODIFIED:20180426T060050Z
UID:11683-1524866400-1524866400@edmlife.com
SUMMARY:TJR @ Exchange LA
DESCRIPTION:Ladies\, we got you covered before 11pm (Limited Capacity) + guys inquire for details! Please submit for guest list before 6pm on the day of the event! \n\nFill out my online form.\n\n  Fill out my Wufoo form!
URL:https://edmlife.com/event/tjr-exchange-la-2/
LOCATION:Exchange LA\, 618 S Spring St\, Los Angeles\, CA\, 90014\, United States
END:VEVENT
BEGIN:VEVENT
DTSTART;TZID=America/Los_Angeles:20180427T220000
DTEND;TZID=America/Los_Angeles:20180427T220000
DTSTAMP:20260419T191442
CREATED:20180426T052459Z
LAST-MODIFIED:20180426T052459Z
UID:11677-1524866400-1524866400@edmlife.com
SUMMARY:Thomas Gold @ Academy
DESCRIPTION:$5 OFF with Promo Code: 2018\, or ladies we got you covered before 11pm + guys inquire for details! Please submit for guest list before 6pm on the day of the event! \n\nFill out my online form.\n\n  Fill out my Wufoo form!
URL:https://edmlife.com/event/thomas-gold-academy/
LOCATION:Academy\, 6021 Hollywood Blvd\, Los Angeles\, CA\, 90028\, United States
END:VEVENT
BEGIN:VEVENT
DTSTART;TZID=America/Los_Angeles:20180427T213000
DTEND;TZID=America/Los_Angeles:20180427T213000
DTSTAMP:20260419T191442
CREATED:20180426T063129Z
LAST-MODIFIED:20180426T063129Z
UID:11689-1524864600-1524864600@edmlife.com
SUMMARY:Prismo | BKAYE | EMRSV | DJ CHIN | Nathan @ Avalon
DESCRIPTION:10% OFF with Promo Code: EDMLIFE\, $10 before 10:30pm OR first come\, first serve in case we run out of allocated discount tickets. Please submit for guest list before 6pm on the day of the event! \n\nFill out my online form.\n\n  Fill out my Wufoo form!
URL:https://edmlife.com/event/prismo-bkaye-emrsv-dj-chin-nathan-avalon/
LOCATION:Exchange LA\, 618 S Spring St\, Los Angeles\, CA\, 90014\, United States
END:VEVENT
BEGIN:VEVENT
DTSTART;TZID=America/Los_Angeles:20180421T220000
DTEND;TZID=America/Los_Angeles:20180421T220000
DTSTAMP:20260419T191442
CREATED:20180420T075503Z
LAST-MODIFIED:20180420T075503Z
UID:11605-1524348000-1524348000@edmlife.com
SUMMARY:JACK NOVAK @ Temple SF
DESCRIPTION:Please submit for guest list before 6pm on the day of the event! \n\nFill out my online form.\n\n  Fill out my Wufoo form!
URL:https://edmlife.com/event/jack-novak-temple-sf/
LOCATION:Avalon Hollywood\, 1735 Vine Street\, Hollywood\, CA\, 90028\, United States
END:VEVENT
END:VCALENDAR