BEGIN:VCALENDAR
VERSION:2.0
PRODID:-//EDM Life - ECPv6.15.20//NONSGML v1.0//EN
CALSCALE:GREGORIAN
METHOD:PUBLISH
X-WR-CALNAME:EDM Life
X-ORIGINAL-URL:https://edmlife.com
X-WR-CALDESC:Events for EDM Life
REFRESH-INTERVAL;VALUE=DURATION:PT1H
X-Robots-Tag:noindex
X-PUBLISHED-TTL:PT1H
BEGIN:VTIMEZONE
TZID:America/Los_Angeles
BEGIN:DAYLIGHT
TZOFFSETFROM:-0800
TZOFFSETTO:-0700
TZNAME:PDT
DTSTART:20170312T100000
END:DAYLIGHT
BEGIN:STANDARD
TZOFFSETFROM:-0700
TZOFFSETTO:-0800
TZNAME:PST
DTSTART:20171105T090000
END:STANDARD
BEGIN:DAYLIGHT
TZOFFSETFROM:-0800
TZOFFSETTO:-0700
TZNAME:PDT
DTSTART:20180311T100000
END:DAYLIGHT
BEGIN:STANDARD
TZOFFSETFROM:-0700
TZOFFSETTO:-0800
TZNAME:PST
DTSTART:20181104T090000
END:STANDARD
BEGIN:DAYLIGHT
TZOFFSETFROM:-0800
TZOFFSETTO:-0700
TZNAME:PDT
DTSTART:20190310T100000
END:DAYLIGHT
BEGIN:STANDARD
TZOFFSETFROM:-0700
TZOFFSETTO:-0800
TZNAME:PST
DTSTART:20191103T090000
END:STANDARD
END:VTIMEZONE
BEGIN:VEVENT
DTSTART;TZID=America/Los_Angeles:20180406T220000
DTEND;TZID=America/Los_Angeles:20180406T220000
DTSTAMP:20260420T031824
CREATED:20180403T051323Z
LAST-MODIFIED:20180406T052103Z
UID:11409-1523052000-1523052000@edmlife.com
SUMMARY:Shaun Frank @ Academy
DESCRIPTION:$5 OFF with Promo Code: 2018\, or ladies we got you covered before 11pm & guys inquire for details! Please submit for guest list before 6pm on the day of the event! \n\nFill out my online form.\n\n  Fill out my Wufoo form!
URL:https://edmlife.com/event/shaun-frank-academy/
LOCATION:Academy\, 6021 Hollywood Blvd\, Los Angeles\, CA\, 90028\, United States
END:VEVENT
BEGIN:VEVENT
DTSTART;TZID=America/Los_Angeles:20180406T220000
DTEND;TZID=America/Los_Angeles:20180406T220000
DTSTAMP:20260420T031824
CREATED:20180302T050003Z
LAST-MODIFIED:20180406T052925Z
UID:11164-1523052000-1523052000@edmlife.com
SUMMARY:Laidback Luke @ Exchange LA
DESCRIPTION:$5 OFF with Promo Code: LUKE\, and limited Guest List for ladies.
URL:https://edmlife.com/event/laidback-luke-exchange-la/
LOCATION:Exchange LA\, 618 S Spring St\, Los Angeles\, CA\, 90014\, United States
END:VEVENT
BEGIN:VEVENT
DTSTART;TZID=America/Los_Angeles:20180406T213000
DTEND;TZID=America/Los_Angeles:20180406T213000
DTSTAMP:20260420T031824
CREATED:20180403T055922Z
LAST-MODIFIED:20180406T053851Z
UID:11416-1523050200-1523050200@edmlife.com
SUMMARY:Quix | Cray | Choppa Dunks | RWDY | AMIDY @ Avalon
DESCRIPTION:10% OFF with Promo Code: EDMLIFE\, $15 before 10:30pm OR first come\, first serve in case we run out of allocated discount tickets. Please submit for guest list before 6pm on the day of the event!\n\nFill out my online form.\n\n  Fill out my Wufoo form!
URL:https://edmlife.com/event/quix-cray-choppa-dunks-rwdy-amidy-avalon/
LOCATION:Avalon Hollywood\, 1735 Vine Street\, Hollywood\, CA\, 90028\, United States
END:VEVENT
BEGIN:VEVENT
DTSTART;TZID=America/Los_Angeles:20180405T220000
DTEND;TZID=America/Los_Angeles:20180405T220000
DTSTAMP:20260420T031824
CREATED:20180403T062432Z
LAST-MODIFIED:20180403T062558Z
UID:11423-1522965600-1522965600@edmlife.com
SUMMARY:HELLA FRESH FEAT. DJ SCENE @ Temple SF
DESCRIPTION:Complimentary Admission before midnight\, or please submit for guest list before 6pm on the day of the event! \n\nFill out my online form.\n\n  Fill out my Wufoo form!
URL:https://edmlife.com/event/hella-fresh-feat-dj-scene-temple-sf/
LOCATION:Avalon Hollywood\, 1735 Vine Street\, Hollywood\, CA\, 90028\, United States
END:VEVENT
BEGIN:VEVENT
DTSTART;TZID=America/Los_Angeles:20180331T220000
DTEND;TZID=America/Los_Angeles:20180331T220000
DTSTAMP:20260420T031824
CREATED:20180330T060937Z
LAST-MODIFIED:20180330T060937Z
UID:11372-1522533600-1522533600@edmlife.com
SUMMARY:TWRK @ Temple SF
DESCRIPTION:Please submit for guest list before 6pm on the day of the event! \n\nFill out my online form.\n\n  Fill out my Wufoo form!
URL:https://edmlife.com/event/twrk-temple-sf/
LOCATION:Temple SF\, 540 Howard Street\, 1st Floor\, San Francisco\, CA\, 94105\, United States
END:VEVENT
BEGIN:VEVENT
DTSTART;TZID=America/Los_Angeles:20180331T220000
DTEND;TZID=America/Los_Angeles:20180331T220000
DTSTAMP:20260420T031824
CREATED:20180330T054855Z
LAST-MODIFIED:20180330T054855Z
UID:11369-1522533600-1522533600@edmlife.com
SUMMARY:Adventure Club LACC After Party @ Academy
DESCRIPTION:$5 OFF with Promo Code: 2018! No Guest List for this event.
URL:https://edmlife.com/event/adventure-club-lacc-after-party-academy/
LOCATION:Academy\, 6021 Hollywood Blvd\, Los Angeles\, CA\, 90028\, United States
END:VEVENT
BEGIN:VEVENT
DTSTART;TZID=America/Los_Angeles:20180331T220000
DTEND;TZID=America/Los_Angeles:20180331T220000
DTSTAMP:20260420T031824
CREATED:20180330T052209Z
LAST-MODIFIED:20180330T052445Z
UID:11362-1522533600-1522533600@edmlife.com
SUMMARY:Carl Cox @ Exchange LA
DESCRIPTION:No Guest List for this event\, but a small number of tickets will go on sale Friday\, March 30th!!!
URL:https://edmlife.com/event/carl-cox-exchange-la/
LOCATION:Exchange LA\, 618 S Spring St\, Los Angeles\, CA\, 90014\, United States
END:VEVENT
BEGIN:VEVENT
DTSTART;TZID=America/Los_Angeles:20180331T220000
DTEND;TZID=America/Los_Angeles:20180331T220000
DTSTAMP:20260420T031824
CREATED:20180330T050419Z
LAST-MODIFIED:20180330T050419Z
UID:11358-1522533600-1522533600@edmlife.com
SUMMARY:Darren Emerson | Danny Howells | Dave Seaman @ Avalon
DESCRIPTION:10% OFF with Promo Code: EDMLIFE\, $15 before 11pm OR first come\, first serve in case we run out of allocated discount tickets. Please submit for guest list before 6pm on the day of the event! \n\nFill out my online form.\n\n  Fill out my Wufoo form!
URL:https://edmlife.com/event/darren-emerson-danny-howells-dave-seaman-avalon/
LOCATION:Avalon Hollywood\, 1735 Vine Street\, Hollywood\, CA\, 90028\, United States
END:VEVENT
BEGIN:VEVENT
DTSTART;TZID=America/Los_Angeles:20180331T200000
DTEND;TZID=America/Los_Angeles:20180331T200000
DTSTAMP:20260420T031824
CREATED:20180118T052235Z
LAST-MODIFIED:20180118T052235Z
UID:10671-1522526400-1522526400@edmlife.com
SUMMARY:Marshmello @ LA Convention Center
DESCRIPTION:Tickets on sale Friday\, January 19 @ noon!!!
URL:https://edmlife.com/event/marshmello-la-convention-center/
LOCATION:LA Convention Center\, 1201 S Figueroa St\, Los Angeles\, 90015\, United States
END:VEVENT
BEGIN:VEVENT
DTSTART;TZID=America/Los_Angeles:20180331T140000
DTEND;TZID=America/Los_Angeles:20180331T140000
DTSTAMP:20260420T031824
CREATED:20180214T214450Z
LAST-MODIFIED:20180214T214601Z
UID:11013-1522504800-1522504800@edmlife.com
SUMMARY:Factory 93 presents Carl Cox in DTLA
DESCRIPTION:This event is unfortunately SOLD OUT!!!
URL:https://edmlife.com/event/factory-93-presents-carl-cox/
LOCATION:Factory 93\, 1756 Naud Street\, Los Angeles\, 90012\, United States
END:VEVENT
BEGIN:VEVENT
DTSTART;TZID=America/Los_Angeles:20180330T220000
DTEND;TZID=America/Los_Angeles:20180330T220000
DTSTAMP:20260420T031824
CREATED:20180330T053739Z
LAST-MODIFIED:20180330T053739Z
UID:11366-1522447200-1522447200@edmlife.com
SUMMARY:Klingande @ Academy
DESCRIPTION:$5 OFF with Promo Code: 2018\, or Ladies we got you covered before 11pm (Limited Capacity) + Discount List for guys before 11pm (Subject to Capacity)! Please submit for guest list before 6pm on the day of the event! \n\nFill out my online form.\n\n  Fill out my Wufoo form!
URL:https://edmlife.com/event/klingande-academy/
LOCATION:Academy\, 6021 Hollywood Blvd\, Los Angeles\, CA\, 90028\, United States
END:VEVENT
BEGIN:VEVENT
DTSTART;TZID=America/Los_Angeles:20180330T220000
DTEND;TZID=America/Los_Angeles:20180330T220000
DTSTAMP:20260420T031824
CREATED:20180314T215458Z
LAST-MODIFIED:20180314T215458Z
UID:11257-1522447200-1522447200@edmlife.com
SUMMARY:TIGERLILLY @ Temple SF
DESCRIPTION:Please submit for guest list before 6pm on the day of the event! \n\nFill out my online form.\n\n  Fill out my Wufoo form!
URL:https://edmlife.com/event/tigerlilly-temple-sf/
LOCATION:Temple SF\, 540 Howard Street\, 1st Floor\, San Francisco\, CA\, 94105\, United States
END:VEVENT
BEGIN:VEVENT
DTSTART;TZID=America/Los_Angeles:20180330T220000
DTEND;TZID=America/Los_Angeles:20180330T220000
DTSTAMP:20260420T031824
CREATED:20180314T202015Z
LAST-MODIFIED:20180330T051211Z
UID:11242-1522447200-1522447200@edmlife.com
SUMMARY:Virtual Riot | Barely Alive @ Exchange LA
DESCRIPTION:No Guest List for this event.
URL:https://edmlife.com/event/virtual-riot-barely-alive-exchange-la/
LOCATION:Exchange LA\, 618 S Spring St\, Los Angeles\, CA\, 90014\, United States
END:VEVENT
BEGIN:VEVENT
DTSTART;TZID=America/Los_Angeles:20180330T213000
DTEND;TZID=America/Los_Angeles:20180330T213000
DTSTAMP:20260420T031824
CREATED:20180330T045235Z
LAST-MODIFIED:20180330T045331Z
UID:11354-1522445400-1522445400@edmlife.com
SUMMARY:Dieselboy | Spock | Not Sorry b2b Des McMahon | Bassman @ Avalon
DESCRIPTION:10% OFF with Promo Code: EDMLIFE\, $10 before 10:30pm OR first come\, first serve in case we run out of allocated discount tickets. Please submit for guest list before 6pm on the day of the event! \n\nFill out my online form.\n\n  Fill out my Wufoo form!
URL:https://edmlife.com/event/dieselboy-spock-not-sorry-b2b-des-mcmahon-bassman-avalon/
LOCATION:Avalon Hollywood\, 1735 Vine Street\, Hollywood\, CA\, 90028\, United States
END:VEVENT
BEGIN:VEVENT
DTSTART;TZID=America/Los_Angeles:20180329T220000
DTEND;TZID=America/Los_Angeles:20180329T220000
DTSTAMP:20260420T031824
CREATED:20180314T214514Z
LAST-MODIFIED:20180314T214514Z
UID:11254-1522360800-1522360800@edmlife.com
SUMMARY:LOS RAKAS @ Temple SF
DESCRIPTION:Please submit for guest list before 6pm on the day of the event! \n\nFill out my online form.\n\n  Fill out my Wufoo form!
URL:https://edmlife.com/event/los-rakas-temple-sf/
LOCATION:Temple SF\, 540 Howard Street\, 1st Floor\, San Francisco\, CA\, 94105\, United States
END:VEVENT
BEGIN:VEVENT
DTSTART;TZID=America/Los_Angeles:20180324T220000
DTEND;TZID=America/Los_Angeles:20180324T220000
DTSTAMP:20260420T031824
CREATED:20180314T213004Z
LAST-MODIFIED:20180314T213603Z
UID:11251-1521928800-1521928800@edmlife.com
SUMMARY:DJ TRIPLE XL @ Temple SF
DESCRIPTION:Please submit for guest list before 6pm on the day of the event! \n\nFill out my online form.\n\n  Fill out my Wufoo form!
URL:https://edmlife.com/event/dj-triple-xl-temple-sf/
LOCATION:Temple SF\, 540 Howard Street\, 1st Floor\, San Francisco\, CA\, 94105\, United States
END:VEVENT
BEGIN:VEVENT
DTSTART;TZID=America/Los_Angeles:20180324T220000
DTEND;TZID=America/Los_Angeles:20180324T220000
DTSTAMP:20260420T031824
CREATED:20180314T200443Z
LAST-MODIFIED:20180314T200443Z
UID:11239-1521928800-1521928800@edmlife.com
SUMMARY:Claptone | Tube & Berger @ Exchange LA
DESCRIPTION:Please submit for guest list before 6pm on the day of the event! \n\nFill out my online form.\n\n  Fill out my Wufoo form!
URL:https://edmlife.com/event/claptone-tube-berger-exchange-la/
LOCATION:Exchange LA\, 618 S Spring St\, Los Angeles\, CA\, 90014\, United States
END:VEVENT
BEGIN:VEVENT
DTSTART;TZID=America/Los_Angeles:20180323T220000
DTEND;TZID=America/Los_Angeles:20180323T220000
DTSTAMP:20260420T031824
CREATED:20180314T205347Z
LAST-MODIFIED:20180314T213315Z
UID:11248-1521842400-1521842400@edmlife.com
SUMMARY:SAINT CLAIR @ Temple SF
DESCRIPTION:Please submit for guest list before 6pm on the day of the event! \n\nFill out my online form.\n\n  Fill out my Wufoo form!
URL:https://edmlife.com/event/saint-clair-temple-sf/
LOCATION:Temple SF\, 540 Howard Street\, 1st Floor\, San Francisco\, CA\, 94105\, United States
END:VEVENT
BEGIN:VEVENT
DTSTART;TZID=America/Los_Angeles:20180323T220000
DTEND;TZID=America/Los_Angeles:20180323T220000
DTSTAMP:20260420T031824
CREATED:20180302T044938Z
LAST-MODIFIED:20180302T044938Z
UID:11161-1521842400-1521842400@edmlife.com
SUMMARY:Mat Zo [Open to Close] @ Exchange LA
DESCRIPTION:$5 OFF with Promo Code: MADZOO\, or please submit for guest list before 6pm on the day of the event! \n\nFill out my online form.\n\n  Fill out my Wufoo form!
URL:https://edmlife.com/event/mat-zo-open-to-close-exchange-la/
LOCATION:Exchange LA\, 618 S Spring St\, Los Angeles\, CA\, 90014\, United States
END:VEVENT
BEGIN:VEVENT
DTSTART;TZID=America/Los_Angeles:20180322T220000
DTEND;TZID=America/Los_Angeles:20180322T220000
DTSTAMP:20260420T031824
CREATED:20180314T203637Z
LAST-MODIFIED:20180314T213513Z
UID:11245-1521756000-1521756000@edmlife.com
SUMMARY:DJ AMEN @ Temple SF
DESCRIPTION:Please submit for guest list before 6pm on the day of the event! \n\nFill out my online form.\n\n  Fill out my Wufoo form!
URL:https://edmlife.com/event/dj-amen-temple-sf/
LOCATION:Temple SF\, 540 Howard Street\, 1st Floor\, San Francisco\, CA\, 94105\, United States
END:VEVENT
BEGIN:VEVENT
DTSTART;TZID=America/Los_Angeles:20180317T220000
DTEND;TZID=America/Los_Angeles:20180317T220000
DTSTAMP:20260420T031824
CREATED:20180301T074532Z
LAST-MODIFIED:20180316T074823Z
UID:11158-1521324000-1521324000@edmlife.com
SUMMARY:Com Truise [Live] | Télépopmusik @ Exchange LA
DESCRIPTION:Ladies we got you covered before 11pm + Discount List for guys before 11pm! Please submit for guest list before 6pm on the day of the event!\n\nFill out my online form.\n\n  Fill out my Wufoo form!
URL:https://edmlife.com/event/com-truise-live-telepopmusik-exchange-la/
LOCATION:Exchange LA\, 618 S Spring St\, Los Angeles\, CA\, 90014\, United States
END:VEVENT
BEGIN:VEVENT
DTSTART;TZID=America/Los_Angeles:20180317T220000
DTEND;TZID=America/Los_Angeles:20180317T220000
DTSTAMP:20260420T031824
CREATED:20180301T053759Z
LAST-MODIFIED:20180316T091128Z
UID:11146-1521324000-1521324000@edmlife.com
SUMMARY:Dirty South [Extended Set] | ANDR3X | The Leo King @ Avalon
DESCRIPTION:10% OFF with Promo Code: EDMLIFE\, $25 before 11pm OR first come\, first serve in case we run out of allocated discount tickets. Please submit for guest list before 6pm on the day of the event!\n\nFill out my online form.\n\n  Fill out my Wufoo form!
URL:https://edmlife.com/event/dirty-south-extended-set-andr3x-the-leo-king-avalon/
LOCATION:Avalon Hollywood\, 1735 Vine Street\, Hollywood\, CA\, 90028\, United States
END:VEVENT
BEGIN:VEVENT
DTSTART;TZID=America/Los_Angeles:20180317T220000
DTEND;TZID=America/Los_Angeles:20180317T220000
DTSTAMP:20260420T031824
CREATED:20180228T083132Z
LAST-MODIFIED:20180228T083132Z
UID:11134-1521324000-1521324000@edmlife.com
SUMMARY:WILL SPARKS @ Temple SF
DESCRIPTION:Please submit for guest list before 6pm on the day of the event! \n\nFill out my online form.\n\n  Fill out my Wufoo form!
URL:https://edmlife.com/event/will-sparks-temple-sf/
LOCATION:Temple SF\, 540 Howard Street\, 1st Floor\, San Francisco\, CA\, 94105\, United States
END:VEVENT
BEGIN:VEVENT
DTSTART;TZID=America/Los_Angeles:20180317T220000
DTEND;TZID=America/Los_Angeles:20180317T220000
DTSTAMP:20260420T031824
CREATED:20180228T072804Z
LAST-MODIFIED:20180228T072804Z
UID:11118-1521324000-1521324000@edmlife.com
SUMMARY:FRAMEWORK X RHONDA INTL: CIRCOLOCO @ Union
DESCRIPTION:No Guest List for this event.
URL:https://edmlife.com/event/framework-x-rhonda-intl-circoloco-union/
LOCATION:Union\, 4067 W. Pico Boulevard\, Los Angeles\, CA\, 90019\, United States
END:VEVENT
BEGIN:VEVENT
DTSTART;TZID=America/Los_Angeles:20180317T220000
DTEND;TZID=America/Los_Angeles:20180317T220000
DTSTAMP:20260420T031824
CREATED:20180227T072128Z
LAST-MODIFIED:20180316T064349Z
UID:11097-1521324000-1521324000@edmlife.com
SUMMARY:Dyro | Zaxx @ Academy
DESCRIPTION:$5 OFF with Promo Code: 2018\, or Ladies we got you covered before 11pm + Discount List for guys before 11pm! Please submit for guest list before 6pm on the day of the event!\n\nFill out my online form.\n\n  Fill out my Wufoo form!
URL:https://edmlife.com/event/dyro-zaxx-academy/
LOCATION:Academy\, 6021 Hollywood Blvd\, Los Angeles\, CA\, 90028\, United States
END:VEVENT
BEGIN:VEVENT
DTSTART;TZID=America/Los_Angeles:20180316T220000
DTEND;TZID=America/Los_Angeles:20180316T220000
DTSTAMP:20260420T031824
CREATED:20180314T071013Z
LAST-MODIFIED:20180316T073323Z
UID:11230-1521237600-1521237600@edmlife.com
SUMMARY:Oliver Heldens | Le Youth | Niko The Kid @ Exchange LA
DESCRIPTION:Ladies we got you covered before 11pm (limited capacity)! Please submit for guest list before 6pm on the day of the event!\n\nFill out my online form.\n\n  Fill out my Wufoo form!
URL:https://edmlife.com/event/oliver-heldens-le-youth-niko-the-kid-exchange-la/
LOCATION:Exchange LA\, 618 S Spring St\, Los Angeles\, CA\, 90014\, United States
END:VEVENT
BEGIN:VEVENT
DTSTART;TZID=America/Los_Angeles:20180316T220000
DTEND;TZID=America/Los_Angeles:20180316T220000
DTSTAMP:20260420T031824
CREATED:20180228T080735Z
LAST-MODIFIED:20180316T105400Z
UID:11131-1521237600-1521237600@edmlife.com
SUMMARY:ROBIN SCHULZ @ Temple SF
DESCRIPTION:Please submit for guest list before 6pm on the day of the event! \n\nFill out my online form.\n\n  Fill out my Wufoo form!
URL:https://edmlife.com/event/robin-schulz-temple-sf-2/
LOCATION:Temple SF\, 540 Howard Street\, 1st Floor\, San Francisco\, CA\, 94105\, United States
END:VEVENT
BEGIN:VEVENT
DTSTART;TZID=America/Los_Angeles:20180316T220000
DTEND;TZID=America/Los_Angeles:20180316T220000
DTSTAMP:20260420T031824
CREATED:20180227T070720Z
LAST-MODIFIED:20180316T063322Z
UID:11094-1521237600-1521237600@edmlife.com
SUMMARY:Bonnie x Clyde @ Academy
DESCRIPTION:$5 OFF with Promo Code: 2018\, or Ladies we got you covered before 11pm + Discount List for guys before 11pm! Please submit for guest list before 6pm on the day of the event!\n\nFill out my online form.\n\n  Fill out my Wufoo form!
URL:https://edmlife.com/event/bonnie-x-clyde-academy/
LOCATION:Academy\, 6021 Hollywood Blvd\, Los Angeles\, CA\, 90028\, United States
END:VEVENT
BEGIN:VEVENT
DTSTART;TZID=America/Los_Angeles:20180316T213000
DTEND;TZID=America/Los_Angeles:20180316T213000
DTSTAMP:20260420T031824
CREATED:20180301T045628Z
LAST-MODIFIED:20180316T090236Z
UID:11143-1521235800-1521235800@edmlife.com
SUMMARY:MitiS | PLS&TY | Joyzu | Ted Hur | Waaves @ Avalon
DESCRIPTION:10% OFF with Promo Code: EDMLIFE\, $15 before 10:30pm\, OR first come\, first serve in case we run out of allocated discount tickets. Please submit for guest list before 6pm on the day of the event!\n\nFill out my online form.\n\n  Fill out my Wufoo form!
URL:https://edmlife.com/event/mitis-plsty-joyzu-ted-hur-waaves-avalon/
LOCATION:Avalon Hollywood\, 1735 Vine Street\, Hollywood\, CA\, 90028\, United States
END:VEVENT
BEGIN:VEVENT
DTSTART;TZID=America/Los_Angeles:20180310T220000
DTEND;TZID=America/Los_Angeles:20180310T220000
DTSTAMP:20260420T031824
CREATED:20180301T070013Z
LAST-MODIFIED:20180309T054554Z
UID:11154-1520719200-1520719200@edmlife.com
SUMMARY:Jack Beats | Kill Frenzy | BOT | Astronomar @ Exchange LA
DESCRIPTION:Ladies we got you covered before 11pm + Discount List for guys before 11pm! Please submit for guest list before 6pm on the day of the event!\n\nFill out my online form.\n\n  Fill out my Wufoo form!
URL:https://edmlife.com/event/jack-beats-kill-frenzy-bot-astronomar-exchange-la/
LOCATION:Exchange LA\, 618 S Spring St\, Los Angeles\, CA\, 90014\, United States
END:VEVENT
END:VCALENDAR