BEGIN:VCALENDAR
VERSION:2.0
PRODID:-//EDM Life - ECPv6.15.20//NONSGML v1.0//EN
CALSCALE:GREGORIAN
METHOD:PUBLISH
X-WR-CALNAME:EDM Life
X-ORIGINAL-URL:https://edmlife.com
X-WR-CALDESC:Events for EDM Life
REFRESH-INTERVAL;VALUE=DURATION:PT1H
X-Robots-Tag:noindex
X-PUBLISHED-TTL:PT1H
BEGIN:VTIMEZONE
TZID:America/Los_Angeles
BEGIN:DAYLIGHT
TZOFFSETFROM:-0800
TZOFFSETTO:-0700
TZNAME:PDT
DTSTART:20230312T100000
END:DAYLIGHT
BEGIN:STANDARD
TZOFFSETFROM:-0700
TZOFFSETTO:-0800
TZNAME:PST
DTSTART:20231105T090000
END:STANDARD
BEGIN:DAYLIGHT
TZOFFSETFROM:-0800
TZOFFSETTO:-0700
TZNAME:PDT
DTSTART:20240310T100000
END:DAYLIGHT
BEGIN:STANDARD
TZOFFSETFROM:-0700
TZOFFSETTO:-0800
TZNAME:PST
DTSTART:20241103T090000
END:STANDARD
BEGIN:DAYLIGHT
TZOFFSETFROM:-0800
TZOFFSETTO:-0700
TZNAME:PDT
DTSTART:20250309T100000
END:DAYLIGHT
BEGIN:STANDARD
TZOFFSETFROM:-0700
TZOFFSETTO:-0800
TZNAME:PST
DTSTART:20251102T090000
END:STANDARD
END:VTIMEZONE
BEGIN:VEVENT
DTSTART;TZID=America/Los_Angeles:20240322T190000
DTEND;TZID=America/Los_Angeles:20240323T190000
DTSTAMP:20260420T014530
CREATED:20240228T013829Z
LAST-MODIFIED:20240228T013829Z
UID:21941-1711134000-1711220400@edmlife.com
SUMMARY:Paradise Miami 2024 - Factory Town - Miami Music Week
DESCRIPTION:\, Friday Night of Miami Music Week at Factory Town featuring a full plethora of programming: \n5 STAGES FROM SUNSET TO SUNRISE \nInfinity Room & Espacio Proximo –> PARADISE \n***LINEUP*** \n-Jamie Jones \n-AMÉMÉ \n-Astra Club (Carlita +DJ Tennis) \n-Chris Stussy \n-East End Dubs \n-Fleur Shore \n-Lauren Lane \n-Loco Dice \n-Luuk van Dijk \n-Mason Collective \n-Max Dean \n-Miluhska \n-Serge Devant \n-wAFF \nThe Park –> MOCHAKK CALLING \nThe Warehouse –> DRUMCODE \nCypress End –> THUNDERPONY’S SALOON \nThis is an 18+ event\nPresented by Link Miami Rebels\nNo Covid-19 entry requirements\nYou can get a refund if:\nThis event is rescheduled or cancelled
URL:https://edmlife.com/event/paradise-miami-2024-factory-town-miami-music-week/
LOCATION:Factory Town\, 4800 NW 37th Avenue\, Miami\, FL\, 33142\, United States
ATTACH;FMTTYPE=image/jpeg:https://edmlife.com/wp-content/uploads/2024/02/paradise-miami-scaled.jpeg
END:VEVENT
END:VCALENDAR